BEGIN:VCALENDAR
VERSION:2.0
PRODID:-//92.5 the River - ECPv5.16.3.1//NONSGML v1.0//EN
CALSCALE:GREGORIAN
METHOD:PUBLISH
X-WR-CALNAME:92.5 the River
X-ORIGINAL-URL:https://theriverboston.com
X-WR-CALDESC:Events for 92.5 the River
BEGIN:VTIMEZONE
TZID:America/New_York
BEGIN:DAYLIGHT
TZOFFSETFROM:-0500
TZOFFSETTO:-0400
TZNAME:EDT
DTSTART:20190310T070000
END:DAYLIGHT
BEGIN:STANDARD
TZOFFSETFROM:-0400
TZOFFSETTO:-0500
TZNAME:EST
DTSTART:20191103T060000
END:STANDARD
END:VTIMEZONE
BEGIN:VEVENT
DTSTART;TZID=America/New_York:20190616T190000
DTEND;TZID=America/New_York:20190616T190000
DTSTAMP:20260424T090712
CREATED:20190523T175443Z
LAST-MODIFIED:20190523T175737Z
UID:209170-1560711600-1560711600@theriverboston.com
SUMMARY:Jenny Lewis @ Prescott Park
DESCRIPTION:This week\, singer-songwriter Jenny Lewis will be performing as part of the The River House Restaurant Concert Series at Prescott Park! More info on how to see the show is available on the Prescott Park website!
URL:https://theriverboston.com/events/jenny-lewis-prescott-park/
LOCATION:Prescott Park\, 105 Marcy Street\, Portsmouth\, NH\, 03801\, United States
END:VEVENT
BEGIN:VEVENT
DTSTART;TZID=America/New_York:20190616T193000
DTEND;TZID=America/New_York:20190616T230000
DTSTAMP:20260424T090712
CREATED:20190626T183429Z
LAST-MODIFIED:20190626T183429Z
UID:209573-1560713400-1560726000@theriverboston.com
SUMMARY:Oklahoma! Live At The North Shore Music Theatre
DESCRIPTION:Rodger’s And Hammerstein’s classic musical\, Oklahoma! returns to the North Shore Music Theatre for the first time in 25 years. The show premieres on June 4th and runs all the way through June 16th. Tickets are on sale now! \nBe sure to also follow North Shore Music Theatre on Instagram\, for more updates.
URL:https://theriverboston.com/events/oklahoma-live-at-the-north-shore-music-theatre-2/
LOCATION:North Shore Music Theatre\, 62 Dunham Road\, Beverly\, MA\, 01915\, United States
END:VEVENT
END:VCALENDAR