BEGIN:VCALENDAR
VERSION:2.0
PRODID:-//92.5 the River - ECPv5.16.3.1//NONSGML v1.0//EN
CALSCALE:GREGORIAN
METHOD:PUBLISH
X-WR-CALNAME:92.5 the River
X-ORIGINAL-URL:https://theriverboston.com
X-WR-CALDESC:Events for 92.5 the River
BEGIN:VTIMEZONE
TZID:America/New_York
BEGIN:DAYLIGHT
TZOFFSETFROM:-0500
TZOFFSETTO:-0400
TZNAME:EDT
DTSTART:20190310T070000
END:DAYLIGHT
BEGIN:STANDARD
TZOFFSETFROM:-0400
TZOFFSETTO:-0500
TZNAME:EST
DTSTART:20191103T060000
END:STANDARD
END:VTIMEZONE
BEGIN:VEVENT
DTSTART;VALUE=DATE:20190620
DTEND;VALUE=DATE:20190623
DTSTAMP:20260424T030934
CREATED:20190418T184423Z
LAST-MODIFIED:20190418T184423Z
UID:208633-1560988800-1561247999@theriverboston.com
SUMMARY:45th Annual Market Days Festival in Concord!
DESCRIPTION:Intown Concord’s annual three day festival is coming soon to downtown Concord!\nWith free admission\, there will be so many ways to entertain including mini-golf\, outdoor movies\, the Capital Classic 10k\, and over 200 unique merchants and vendors! \nEach day has something special to offer that you will not want to miss\, so may sure to check on the events page to see the updated schedule.
URL:https://theriverboston.com/events/45th-annual-market-days-festival-in-concord/
LOCATION:Downtown Concord\, Concord\, NH\, 03301\, United States
END:VEVENT
BEGIN:VEVENT
DTSTART;TZID=America/New_York:20190622T100000
DTEND;TZID=America/New_York:20190622T120000
DTSTAMP:20260424T030934
CREATED:20190611T143746Z
LAST-MODIFIED:20190611T144200Z
UID:209330-1561197600-1561204800@theriverboston.com
SUMMARY:Morning Coffee with the River Roadies!
DESCRIPTION:Wake up with your favorite station’s Street Team and Annalisa at the Dunkin Donuts at 15 S Main St. in Bradford\, MA Saturday\, June 22 from 10:00 AM to noon. Take a chance at some River merchandise on the prize wheel or challenge the River Roadies to a game of corn hole! Plus\, an opportunity to win tickets to one of this summer’s hottest shows!
URL:https://theriverboston.com/events/209330/
LOCATION:Dunkin’\, 15 S Main St\, Bradford\, MA\, 01835\, United States
END:VEVENT
END:VCALENDAR