BEGIN:VCALENDAR
VERSION:2.0
PRODID:-//92.5 the River - ECPv5.16.3.1//NONSGML v1.0//EN
CALSCALE:GREGORIAN
METHOD:PUBLISH
X-WR-CALNAME:92.5 the River
X-ORIGINAL-URL:https://theriverboston.com
X-WR-CALDESC:Events for 92.5 the River
BEGIN:VTIMEZONE
TZID:America/New_York
BEGIN:DAYLIGHT
TZOFFSETFROM:-0500
TZOFFSETTO:-0400
TZNAME:EDT
DTSTART:20190310T070000
END:DAYLIGHT
BEGIN:STANDARD
TZOFFSETFROM:-0400
TZOFFSETTO:-0500
TZNAME:EST
DTSTART:20191103T060000
END:STANDARD
END:VTIMEZONE
BEGIN:VEVENT
DTSTART;TZID=America/New_York:20190706T013000
DTEND;TZID=America/New_York:20190706T190000
DTSTAMP:20260424T231326
CREATED:20190619T191706Z
LAST-MODIFIED:20190619T191706Z
UID:209457-1562376600-1562439600@theriverboston.com
SUMMARY:Americana Rhythm and Roots Festival Returns to the Waterfront!
DESCRIPTION:Newburyport’s annual music celebration of America’s roots is back! Bring the family down to the waterfront to watch a completely free concert where several artists\, including five time Grammy-nominated Marcia Ball\, will be performing July Fourth weekend!\nJoin The River Street Team who will be in attendance again this year with games and prizes! Stay up to date on any and all changes here!
URL:https://theriverboston.com/events/americana-rhythm-and-roots-festival-returns-to-the-waterfront/
LOCATION:newburyport waterfront park\, 36 Merrimac street\, Newburyport\, MA\, 01950\, United States
ORGANIZER;CN="Newbury%20Parks%20Conservancy":MAILTO:info@newburyportparks.org
END:VEVENT
BEGIN:VEVENT
DTSTART;TZID=America/New_York:20190706T110000
DTEND;TZID=America/New_York:20190706T130000
DTSTAMP:20260424T231326
CREATED:20190627T184255Z
LAST-MODIFIED:20190627T184255Z
UID:209587-1562410800-1562418000@theriverboston.com
SUMMARY:River Roadies at Papa Wheelies in Natick!
DESCRIPTION:The River Roadies are making their way to Papa Wheelies in Natick on Saturday\, July 6 from 11am to 1pm! Checkout a new bicycle\, try on some new clothes\, or book a repair! Your favorite station’s street team will be there with an opportunity to win River merchandise and tickets to some of this summer’s hottest shows!
URL:https://theriverboston.com/events/river-roadies-at-papa-wheelies-in-natick/
LOCATION:Papa Wheelies Natick\, 1400 Worcester St\, Natick\, MA\, 01760\, United States
ORGANIZER;CN="Papa%20Wheelies":MAILTO:info@papa-wheelies.com
END:VEVENT
BEGIN:VEVENT
DTSTART;TZID=America/New_York:20190706T200000
DTEND;TZID=America/New_York:20190706T200000
DTSTAMP:20260424T231326
CREATED:20190402T181247Z
LAST-MODIFIED:20190402T181326Z
UID:207960-1562443200-1562443200@theriverboston.com
SUMMARY:Citizen Cope at Casino Ballroom
DESCRIPTION:Citizen Cope is coming to Hampton Beach Casino Ballroom this July!\nPlease Note: Doors open at 6pm\, and the show is 18+ \nPresale tickets go on sale Thursday\, 4/4 at 10am with code HBCB4 \nGeneral admission tickets go on sale Friday\, 4/5 at 10am \nRSVP to the show on Facebook \nListen to songs from the new album “Heroin and Helicopters” \nEnter to win tickets before they go on sale (contest ends 4/5 at 9am) \n 
URL:https://theriverboston.com/events/citizen-cope-at-casino-ballroom/
LOCATION:Casino Ballroom\, 169 Ocean Boulevard\, Hampton\, NH\, 03842\, United States
END:VEVENT
END:VCALENDAR