BEGIN:VCALENDAR
VERSION:2.0
PRODID:-//92.5 the River - ECPv5.16.3.1//NONSGML v1.0//EN
CALSCALE:GREGORIAN
METHOD:PUBLISH
X-WR-CALNAME:92.5 the River
X-ORIGINAL-URL:https://theriverboston.com
X-WR-CALDESC:Events for 92.5 the River
BEGIN:VTIMEZONE
TZID:America/New_York
BEGIN:DAYLIGHT
TZOFFSETFROM:-0500
TZOFFSETTO:-0400
TZNAME:EDT
DTSTART:20190310T070000
END:DAYLIGHT
BEGIN:STANDARD
TZOFFSETFROM:-0400
TZOFFSETTO:-0500
TZNAME:EST
DTSTART:20191103T060000
END:STANDARD
END:VTIMEZONE
BEGIN:VEVENT
DTSTART;TZID=America/New_York:20190714T120000
DTEND;TZID=America/New_York:20190714T140000
DTSTAMP:20260424T185549
CREATED:20190711T144954Z
LAST-MODIFIED:20190711T144954Z
UID:209808-1563105600-1563112800@theriverboston.com
SUMMARY:River Roadies at the New Hampshire Liquor and Wine Outlet!
DESCRIPTION:Finish up your weekend by grabbing a drink with the River Roadies on Sunday\, July 14 from noon to 2 PM at the NH Liquor and Wine Outlet in West Lebanon\, NH! Browse a selection of fine wines and spirits\, and take a chance at some River merchandise or tickets to some of the summer’s hottest shows!
URL:https://theriverboston.com/events/river-roadies-at-the-new-hampshire-liquor-and-wine-outlet/
LOCATION:NH Liquor and Wine Outlet\, 10 Benning St\, West Lebanon\, NH\, 03784
END:VEVENT
BEGIN:VEVENT
DTSTART;TZID=America/New_York:20190714T173000
DTEND;TZID=America/New_York:20190714T173000
DTSTAMP:20260424T185549
CREATED:20190509T153208Z
LAST-MODIFIED:20190509T153208Z
UID:209000-1563125400-1563125400@theriverboston.com
SUMMARY:Jonny Lang & JJ Grey And Mofro At The Casino Ballroom
DESCRIPTION:Jonny Lang & JJ Grey And Mofro\nPerforming at the Casino Ballroom\, Jonny Lang & JJ Grey And Mofro! North Mississippi Allstars will also be performing. Doors for this 18+ show will open at 5:30pm and the show starts at 6:30pm!
URL:https://theriverboston.com/events/jonny-lang-jj-grey-and-mofro-at-the-casino-ballroom/
LOCATION:Hampton Beach Casino Ballroom\, 169 Ocean Blvd\, Hampton\, NH\, United States
END:VEVENT
BEGIN:VEVENT
DTSTART;TZID=America/New_York:20190714T193000
DTEND;TZID=America/New_York:20190714T193000
DTSTAMP:20260424T185549
CREATED:20190329T193013Z
LAST-MODIFIED:20190329T193013Z
UID:207879-1563132600-1563132600@theriverboston.com
SUMMARY:Angelique Kidjo at the Lowell Summer Music Series!
DESCRIPTION:Angelique Kidjo is playing Boarding House Park in Lowell\nAnd tickets are on sale now! \nDiscover music from her!| recommended River listen: “Once In A Lifetime” \nStay up to date with Lowell Summer Music festival news and info on Facebook and Twitter \n  \n\nProudly sponsored by the River!
URL:https://theriverboston.com/events/angelique-kidjo-at-the-lowell-summer-music-series/
LOCATION:Boarding House Park\, 40 French Street\, Lowell\, MA\, 01852\, United States
END:VEVENT
END:VCALENDAR