BEGIN:VCALENDAR
VERSION:2.0
PRODID:-//92.5 the River - ECPv5.16.3.1//NONSGML v1.0//EN
CALSCALE:GREGORIAN
METHOD:PUBLISH
X-WR-CALNAME:92.5 the River
X-ORIGINAL-URL:https://theriverboston.com
X-WR-CALDESC:Events for 92.5 the River
BEGIN:VTIMEZONE
TZID:America/New_York
BEGIN:DAYLIGHT
TZOFFSETFROM:-0500
TZOFFSETTO:-0400
TZNAME:EDT
DTSTART:20190310T070000
END:DAYLIGHT
BEGIN:STANDARD
TZOFFSETFROM:-0400
TZOFFSETTO:-0500
TZNAME:EST
DTSTART:20191103T060000
END:STANDARD
END:VTIMEZONE
BEGIN:VEVENT
DTSTART;TZID=America/New_York:20190727T110000
DTEND;TZID=America/New_York:20190727T190000
DTSTAMP:20260424T001648
CREATED:20190621T173135Z
LAST-MODIFIED:20190621T173135Z
UID:209472-1564225200-1564254000@theriverboston.com
SUMMARY:NH Liquor & Wine Outlets Summer Fun Tour BLOCK PARTY
DESCRIPTION:  \nJoin New Hampshire Liquor and Wine Outlet in celebrating their first Summer Fun Tour with a block-party on July 27th from 11am-7pm! \nPlay games\, win prizes and enjoy a meal at the variety of food trucks that will be at the event! \n\nJoin The River Street Team who will be in attendance again this year with games and prizes! \nLearn more at their website here!
URL:https://theriverboston.com/events/nh-liquor-wine-outlets-summer-fun-tour-block-party/
LOCATION:NH Liquor and Wine outlet\, 294 Daniel Webster Hwy\, Nashua\, NH\, 03060\, United States
END:VEVENT
BEGIN:VEVENT
DTSTART;TZID=America/New_York:20190727T130000
DTEND;TZID=America/New_York:20190727T160000
DTSTAMP:20260424T001648
CREATED:20190625T192115Z
LAST-MODIFIED:20190625T192115Z
UID:209564-1564232400-1564243200@theriverboston.com
SUMMARY:Drawing From Our Past: A Tri-Town Tape Art Festival
DESCRIPTION:Celebrate the history of the tri-town Pentucket Region by creating a collaborative life-sized mural of characters from our collective past using only colored tape! Internationally acclaimed Tape Art of Rhode Island visits our communities this summer to lead this extraordinary public art project! Led by the internationally acclaimed Tape Art Crew\, and using exterior walls for a canvas\, you’ll collaborate with others in the community on a life-sized mural made only out of colored tape. The mural will be exhibit later this summer throughout the Pentucket towns. The event is free and open to the public; no registration or artistic ability needed! Breezy music and summery refreshments available throughout the afternoon. http://www.pentucketarts.org \n 
URL:https://theriverboston.com/events/drawing-from-our-past-a-tri-town-tape-art-festival/
LOCATION:Pentucket Regional Middle School\, 20 Main St\, Groveland\, MA\, 01834\, United States
ORGANIZER;CN="Tape%20Art%20Crew":MAILTO:together@tapeart.com
END:VEVENT
BEGIN:VEVENT
DTSTART;TZID=America/New_York:20190727T200000
DTEND;TZID=America/New_York:20190727T230000
DTSTAMP:20260424T001648
CREATED:20190712T181140Z
LAST-MODIFIED:20190712T181140Z
UID:209817-1564257600-1564268400@theriverboston.com
SUMMARY:Dark Star Orchestra is Coming to Hampton Beach Casino Ballroom!
DESCRIPTION:Dark Star Orchestra isn’t your average orchestra. There are no clarinets\, no trumpets\, and no violins. They don’t have a conductor and they definitely don’t follow sheet music. That’s because this orchestra is a Grateful Dead cover band! \nSince 1997 they have celebrated the late rock group with nearly 2\,500 tribute performances\, presenting the original setlist in order along with their own adaptations. \nOn Friday\, July 27th\, you will have the chance to see them perform live at the Hampton Beach Casino Ballroom! Tickets are on sale now\, starting at just $32! Relive the past\, or create a whole new set of memories.
URL:https://theriverboston.com/events/dark-star-orchestra-is-coming-to-hampton-beach-casino-ballroom/
LOCATION:Hampton Beach Casino Ballroom\, 169 Ocean Blvd\, Hampton\, NH\, United States
END:VEVENT
BEGIN:VEVENT
DTSTART;TZID=America/New_York:20190727T203000
DTEND;TZID=America/New_York:20190727T230000
DTSTAMP:20260424T001648
CREATED:20190530T154630Z
LAST-MODIFIED:20190530T154754Z
UID:209226-1564259400-1564268400@theriverboston.com
SUMMARY:Dionysia Album Release Party At The Sinclair!
DESCRIPTION:Last year’s River Ruckus performers Dionysia are set to release a new album! Join them at their release party on Saturday\, July 27th! Tickets are available now for this 18+ show! And be sure to check out their music before you attend!
URL:https://theriverboston.com/events/dionysia-album-release-party-at-the-sinclair/
LOCATION:The Sinclair\, 52 Church Street\, Cambridge\, MA\, 02138\, United States
END:VEVENT
END:VCALENDAR