BEGIN:VCALENDAR
VERSION:2.0
PRODID:-//92.5 the River - ECPv5.16.3.1//NONSGML v1.0//EN
CALSCALE:GREGORIAN
METHOD:PUBLISH
X-WR-CALNAME:92.5 the River
X-ORIGINAL-URL:https://theriverboston.com
X-WR-CALDESC:Events for 92.5 the River
BEGIN:VTIMEZONE
TZID:America/New_York
BEGIN:DAYLIGHT
TZOFFSETFROM:-0500
TZOFFSETTO:-0400
TZNAME:EDT
DTSTART:20190310T070000
END:DAYLIGHT
BEGIN:STANDARD
TZOFFSETFROM:-0400
TZOFFSETTO:-0500
TZNAME:EST
DTSTART:20191103T060000
END:STANDARD
END:VTIMEZONE
BEGIN:VEVENT
DTSTART;TZID=America/New_York:20190802T193000
DTEND;TZID=America/New_York:20190802T193000
DTSTAMP:20260424T001750
CREATED:20190425T195819Z
LAST-MODIFIED:20190425T201008Z
UID:208849-1564774200-1564774200@theriverboston.com
SUMMARY:Blue Oyster Cult at the Lowell Summer Music Series!
DESCRIPTION:Blue Oyster Cult is playing Boarding House Park in Lowell!\nAnd tickets are on sale now! \nDiscover music from Blue Oyster Cult! \nStay up to date with Lowell Summer Music festival news and info on Facebook and Twitter \n  \n\nProudly sponsored by the River!
URL:https://theriverboston.com/events/blue-oyster-cult-at-the-lowell-summer-music-series/
LOCATION:Boarding House Park\, 40 French Street\, Lowell\, MA\, 01852\, United States
END:VEVENT
BEGIN:VEVENT
DTSTART;TZID=America/New_York:20190802T200000
DTEND;TZID=America/New_York:20190802T230000
DTSTAMP:20260424T001750
CREATED:20190610T185934Z
LAST-MODIFIED:20190610T185934Z
UID:209323-1564776000-1564786800@theriverboston.com
SUMMARY:Brett Dennen is Coming to The Music Hall!
DESCRIPTION:Musical magician Brett Dennen wants you to come dance with him on Friday\, August 2nd 8 PM at The Music Hall in Portsmouth! Bring a wide variety of moves\, some good vibes\, and your $30 tickets which you can find here! \nWhile you’re on their website\, be sure to check out the rest of the Live at the Loft series! If you like Brett’s Paul-Simon-meets-Bob-Marley sound\, or his Violent-Femmes-meets-Buddy-Hollysound melodies\, it won’t be hard to find other inspiration.
URL:https://theriverboston.com/events/brett-dennen-is-coming-to-the-music-hall/
LOCATION:The Music Hall\, 28 Chestnut Street\, Portsmouth\, NH\, 03801\, United States
END:VEVENT
END:VCALENDAR