BEGIN:VCALENDAR
VERSION:2.0
PRODID:-//92.5 the River - ECPv5.16.3.1//NONSGML v1.0//EN
CALSCALE:GREGORIAN
METHOD:PUBLISH
X-WR-CALNAME:92.5 the River
X-ORIGINAL-URL:https://theriverboston.com
X-WR-CALDESC:Events for 92.5 the River
BEGIN:VTIMEZONE
TZID:America/New_York
BEGIN:DAYLIGHT
TZOFFSETFROM:-0500
TZOFFSETTO:-0400
TZNAME:EDT
DTSTART:20190310T070000
END:DAYLIGHT
BEGIN:STANDARD
TZOFFSETFROM:-0400
TZOFFSETTO:-0500
TZNAME:EST
DTSTART:20191103T060000
END:STANDARD
END:VTIMEZONE
BEGIN:VEVENT
DTSTART;TZID=America/New_York:20190803T130000
DTEND;TZID=America/New_York:20190803T130000
DTSTAMP:20260423T225213
CREATED:20190716T164005Z
LAST-MODIFIED:20190717T180810Z
UID:209875-1564837200-1564837200@theriverboston.com
SUMMARY:Spend Lunch with The River Roadies!
DESCRIPTION:Bring your appetite because the River Roadies are coming to Cafe Sarina in Newburyport! Named after owner Stephen Flynn Jr.’s daughter Sarina\, Café Sarina is a locally-sourced\, farm-to-table café and restaurant serving light breakfast\, coffee\, weekend brunch\, lunch\, and dinner. Here you can also find Kallie Kones\, named after Flynn’s other daughter Kallie! Your favorite station’s street team will be there with an opportunity to win River merchandise and tickets to some of this summer’s hottest shows!
URL:https://theriverboston.com/events/spend-lunch-with-the-river-roadies/
LOCATION:Cafe Sarina\, 269a Central St\, Georgetown\, MA\, 01833\, United States
END:VEVENT
BEGIN:VEVENT
DTSTART;TZID=America/New_York:20190803T150000
DTEND;TZID=America/New_York:20190803T190000
DTSTAMP:20260423T225213
CREATED:20190604T194704Z
LAST-MODIFIED:20190719T154641Z
UID:209268-1564844400-1564858800@theriverboston.com
SUMMARY:Johnny Appleseed Craft Beer Festival
DESCRIPTION:The Johnny Appleseed Craft Beer Festival returns to downtown Leominster\nSpend the day outside enjoying live music and beer samples from over 40 participating breweries. Tickets are available starting at $30\, and your admission fee provides you with a 4 oz. souvenir tasting glass. \nThe River Street Team will also be in attendance again this year with games and prizes! \nStay up to date on event details by following the Festival on Facebook!
URL:https://theriverboston.com/events/johnny-appleseed-craft-beet-festival/
LOCATION:1 West Street\, Leominster\, MA 01453\, 1 West Street\, Leominster\, MA\, 01453\, United States
ORGANIZER;CN="Johnny%20Appleseed%20Craft%20Beer%20Festival":MAILTO:mtasca@leominster-ma.gov
END:VEVENT
BEGIN:VEVENT
DTSTART;TZID=America/New_York:20190803T150000
DTEND;TZID=America/New_York:20190803T190000
DTSTAMP:20260423T225213
CREATED:20190708T145111Z
LAST-MODIFIED:20190719T154532Z
UID:209650-1564844400-1564858800@theriverboston.com
SUMMARY:Johnny Appleseed Craft Beer Festival in Downtown Leominster!
DESCRIPTION:The Johnny Appleseed Craft Beer Festival will take place Saturday\, August 3\, 2019\, from 3:00 pm to 7:00 pm\, in downtown Leominster\, Massachusetts. The Festival is held outdoors\, with all brewers under multiple tents and food vendors on the Common. \nRiver Roadies will be there from 3:00PM – 7:00PM handing out prizes and tickets! Tickets are on sale now but enter to win now through Sunday 7/21 at 11:59! \n*This is a 21+ event
URL:https://theriverboston.com/events/johnny-appleseed-craft-beer-festival-in-downtown-leominster/
LOCATION:Downtown Leominster
END:VEVENT
BEGIN:VEVENT
DTSTART;TZID=America/New_York:20190803T170000
DTEND;TZID=America/New_York:20190803T230000
DTSTAMP:20260423T225213
CREATED:20190424T174709Z
LAST-MODIFIED:20190424T174709Z
UID:208829-1564851600-1564873200@theriverboston.com
SUMMARY:The River Presents: The Flaming Lips And The Claypool Lennon Delirium @ The Palladuim Outdoors
DESCRIPTION:  \nJoin The River this August\, to see The Flaming Lips and The Claypool Lennon Delirium at The Palladium Outdoors! The Flaming Lips are on tour to promote their new album King’s Mouth\, which comes out on July 19th.
URL:https://theriverboston.com/events/the-river-presents-the-flaming-lips-and-the-claypool-lennon-delirium-the-palladuim-outdoors/
LOCATION:The Palladium Outdoors\, 261 Main Street\, Worcester\, MA\, 01608\, United States
ORGANIZER;CN="92.5%20the%20River":MAILTO:promotions@wxrv.com
END:VEVENT
END:VCALENDAR