BEGIN:VCALENDAR
VERSION:2.0
PRODID:-//92.5 the River - ECPv5.16.3.1//NONSGML v1.0//EN
CALSCALE:GREGORIAN
METHOD:PUBLISH
X-WR-CALNAME:92.5 the River
X-ORIGINAL-URL:https://theriverboston.com
X-WR-CALDESC:Events for 92.5 the River
BEGIN:VTIMEZONE
TZID:America/New_York
BEGIN:DAYLIGHT
TZOFFSETFROM:-0500
TZOFFSETTO:-0400
TZNAME:EDT
DTSTART:20190310T070000
END:DAYLIGHT
BEGIN:STANDARD
TZOFFSETFROM:-0400
TZOFFSETTO:-0500
TZNAME:EST
DTSTART:20191103T060000
END:STANDARD
END:VTIMEZONE
BEGIN:VEVENT
DTSTART;TZID=America/New_York:20190808T190000
DTEND;TZID=America/New_York:20190808T210000
DTSTAMP:20260424T001750
CREATED:20190802T192856Z
LAST-MODIFIED:20190802T210518Z
UID:210035-1565290800-1565298000@theriverboston.com
SUMMARY:Bud Light Bar Night at Fibber McGee's
DESCRIPTION:Bud Light Bar Night at Fibber McGee’s\nJoin the River Roadies and Bud Light as we get ready for the 18th Annual Riverfest Seaside Music Festival! We’ll be hanging at Fibber McGee’s for a Bud Light Bar Night on August 8th from 7pm-9pm handing out prizes\, and giving away a chance to win two VIP passes to Riverfest on August 24th.
URL:https://theriverboston.com/events/bud-light-bar-night-at-fibber-mcgees/
LOCATION:Fibber McGee’s\, 104 Cabot Street\, Beverly\, 01915\, United States
END:VEVENT
BEGIN:VEVENT
DTSTART;TZID=America/New_York:20190808T193000
DTEND;TZID=America/New_York:20190808T223000
DTSTAMP:20260424T001750
CREATED:20190516T163608Z
LAST-MODIFIED:20190828T144212Z
UID:209090-1565292600-1565303400@theriverboston.com
SUMMARY:Jersey Boys At The North Shore Music Theatre
DESCRIPTION:The hit musical based on the life and career of Frankie Valli and The Four Seasons\, Jersey Boys is coming to the North Shore Music Theatre! \nTickets are on sale now and the show runs through September 1st. Be sure to also follow North Shore Music Theatre on Instagram\, for more updates. \nWIN A PAIR OF TICKETS TO THE 8PM SATURDAY 8/31 SHOW – ENTER NOW THROUGH THURSDAY 8/28!
URL:https://theriverboston.com/events/jersey-boys-at-the-north-shore-music-theatre/
LOCATION:North Shore Music Theatre\, 62 Dunham Road\, Beverly\, MA\, 01915\, United States
END:VEVENT
BEGIN:VEVENT
DTSTART;TZID=America/New_York:20190808T193000
DTEND;TZID=America/New_York:20190808T193000
DTSTAMP:20260424T001750
CREATED:20190611T152638Z
LAST-MODIFIED:20190611T152808Z
UID:209337-1565292600-1565292600@theriverboston.com
SUMMARY:Straight No Chaser at The Music Hall!
DESCRIPTION:Fresh off their show the night before\, Straight No Chaser takes the stage again as part of the Intimately Yours Series at The Music Hall in  Portsmouth\, New Hampshire on Thursday\, August 8! Comprised of nine different voices\, Straight No Chaser is not your average a capella group. Known for their sense of humor and extraordinary harmonies\, this show promises to be one of the most memorable of the summer! Tickets are available now.
URL:https://theriverboston.com/events/straight-no-chaser-at-the-music-hall-2/
LOCATION:The Music Hall\, 28 Chestnut Street\, Portsmouth\, NH\, 03801\, United States
END:VEVENT
END:VCALENDAR