BEGIN:VCALENDAR
VERSION:2.0
PRODID:-//92.5 the River - ECPv5.16.3.1//NONSGML v1.0//EN
CALSCALE:GREGORIAN
METHOD:PUBLISH
X-WR-CALNAME:92.5 the River
X-ORIGINAL-URL:https://theriverboston.com
X-WR-CALDESC:Events for 92.5 the River
BEGIN:VTIMEZONE
TZID:America/New_York
BEGIN:DAYLIGHT
TZOFFSETFROM:-0500
TZOFFSETTO:-0400
TZNAME:EDT
DTSTART:20190310T070000
END:DAYLIGHT
BEGIN:STANDARD
TZOFFSETFROM:-0400
TZOFFSETTO:-0500
TZNAME:EST
DTSTART:20191103T060000
END:STANDARD
END:VTIMEZONE
BEGIN:VEVENT
DTSTART;TZID=America/New_York:20190815T190000
DTEND;TZID=America/New_York:20190815T210000
DTSTAMP:20260423T225213
CREATED:20190802T195638Z
LAST-MODIFIED:20190802T210946Z
UID:210049-1565895600-1565902800@theriverboston.com
SUMMARY:Bud Light Bar Night at Minglewood
DESCRIPTION:Bud Light Bar Night at Minglewood\nJoin the River Roadies and Bud Light as we get ready for the 18th Annual Riverfest Seaside Music Festival! We’ll be hanging at Minglewood for a Bud Light Bar Night on August 15th from 5pm-7pm handing out prizes\, and giving away a chance to win two VIP passes to Riverfest on August 24th.
URL:https://theriverboston.com/events/bud-light-bar-night-at-minglewood-2/
LOCATION:Minglewood\, 25 Rogers St\, Gloucester\, MA\, 01930\, United States
END:VEVENT
BEGIN:VEVENT
DTSTART;TZID=America/New_York:20190815T190000
DTEND;TZID=America/New_York:20190815T210000
DTSTAMP:20260423T225213
CREATED:20190808T165452Z
LAST-MODIFIED:20190808T165452Z
UID:210120-1565895600-1565902800@theriverboston.com
SUMMARY:Gate City Brewfest Pre-Party
DESCRIPTION:  \nJoin the River Street Team at the Gate City Brewfest pre-party on Thursday\, August 15th from 7:00 p.m. to 9:00 p.m. at the Thirsty Moose Tap House. \nJoin The River Street Team to play games and win prizes! Stay up to date on any and all changes here!
URL:https://theriverboston.com/events/gate-city-brewfest-pre-party-2/
LOCATION:Thirsty Moose Taphouse\, 360 Daniel Webster Hwy\, Merrimack\, NH\, 03054
ORGANIZER;CN="92.5%20the%20River":MAILTO:promotions@wxrv.com
END:VEVENT
BEGIN:VEVENT
DTSTART;TZID=America/New_York:20190815T193000
DTEND;TZID=America/New_York:20190815T193000
DTSTAMP:20260423T225213
CREATED:20190329T200545Z
LAST-MODIFIED:20190329T200545Z
UID:207890-1565897400-1565897400@theriverboston.com
SUMMARY:The Beach Boys at the Lowell Summer Music Series!
DESCRIPTION:The Beach Boys are playing Boarding House Park in Lowell\nAnd tickets are on sale now! \nDiscover more about The Beach Boys! \nStay up to date with Lowell Summer Music festival news and info on Facebook and Twitter \n  \n\nProudly sponsored by the River!
URL:https://theriverboston.com/events/the-beach-boys-at-the-lowell-summer-music-series/
LOCATION:Boarding House Park\, 40 French Street\, Lowell\, MA\, 01852\, United States
END:VEVENT
BEGIN:VEVENT
DTSTART;TZID=America/New_York:20190815T200000
DTEND;TZID=America/New_York:20190815T200000
DTSTAMP:20260423T225213
CREATED:20190805T204807Z
LAST-MODIFIED:20190806T145226Z
UID:210091-1565899200-1565899200@theriverboston.com
SUMMARY:Donavon Frankenreiter at Blue Ocean Music Hall
DESCRIPTION:Get your tickets to see surf-rocker Donavon Frankenreiter at Blue Ocean Music Hall in Salisbury Thursday\, August 15th! You can also enter to win a chance to hang backstage with Donavon & The River’s own Dana Marshall\, take photos\, get an autograph\, grab pre-show drinks & appetizers\, and enjoy the show on us!
URL:https://theriverboston.com/events/donavon-frankenreiter-at-blue-ocean-music-hall/
LOCATION:Blue Ocean Music Hall\, 4 Oceanfront North\, Salisbury\, MA\, 01952\, United States
END:VEVENT
END:VCALENDAR