BEGIN:VCALENDAR
VERSION:2.0
PRODID:-//92.5 the River - ECPv5.16.3.1//NONSGML v1.0//EN
CALSCALE:GREGORIAN
METHOD:PUBLISH
X-WR-CALNAME:92.5 the River
X-ORIGINAL-URL:https://theriverboston.com
X-WR-CALDESC:Events for 92.5 the River
BEGIN:VTIMEZONE
TZID:America/New_York
BEGIN:DAYLIGHT
TZOFFSETFROM:-0500
TZOFFSETTO:-0400
TZNAME:EDT
DTSTART:20190310T070000
END:DAYLIGHT
BEGIN:STANDARD
TZOFFSETFROM:-0400
TZOFFSETTO:-0500
TZNAME:EST
DTSTART:20191103T060000
END:STANDARD
END:VTIMEZONE
BEGIN:VEVENT
DTSTART;TZID=America/New_York:20190817T120000
DTEND;TZID=America/New_York:20190817T183000
DTSTAMP:20260424T001751
CREATED:20190710T160320Z
LAST-MODIFIED:20190710T162049Z
UID:209761-1566043200-1566066600@theriverboston.com
SUMMARY:Gate City Brewfest 2019
DESCRIPTION:The Gate City Brewfest is an annual brew festival that takes place at Historic Holman Stadium. Not only is it a great place for craft beer aficionado’s\, but it is also a great place to bring the family. We have activities for children\, a cornhole tournament (must qualify in a preliminary tournament)\, live music and a chicken wing competition! \nProceeds benefit local Nashua charities. \nBANDS \n1:05pm – DAVID CORSON\n2:10pm – VISITING WINE\n3:30pm – STILL ON THE VINE \nENTERTAINMENT \nHome Run Derby\nSummer Corn Hole Tournament Finals\nFace painting and balloon artist\nNHOC Kids Zone\nBounce Houses & Games \nAND MORE! \nGCBF Shuttle Bus from 12:00-5:45pm\nElm St garage\nHigh St garage\nMain St / Pearson Ave\nHolman Stadium\nMain St bridge after Franklin St \nPlus\, don’t miss the Kickoff Party at the Thirsty Moose Merrimack on Thursday\, August 15th from 7-9pm! Hosted by 92.5 The River!
URL:https://theriverboston.com/events/gate-city-brewfest-2019/
LOCATION:Holman Stadium\, 67 Amherst St\, Nashua\, NH\, 03063\, United States
END:VEVENT
BEGIN:VEVENT
DTSTART;TZID=America/New_York:20190817T130000
DTEND;TZID=America/New_York:20190817T160000
DTSTAMP:20260424T001751
CREATED:20190731T143349Z
LAST-MODIFIED:20190731T143349Z
UID:209985-1566046800-1566057600@theriverboston.com
SUMMARY:Gunstock Mountain Brew and BBQ
DESCRIPTION:Mountain Brew and BBQ\nSat\, August 17\nJoin us for our 3rd annual Mountain Brew & BBQ on August 17. Enjoy beer\, cider & spirits samples from some of the best crafters in the region. Feast on scrumptious BBQ\, groove to Dis n’ Dat Reggae Band\, and help us support the non-profit Friends of Gunstock. \n\nVIP & Panorama Pub Kick-Off (11am – 4pm) : $50 : Take a scenic lift ride to the Panorama Pub Kick-Off at 11am for a 12oz. pour of our own Gunstock Yard Sale IPA (by Lone Wolfe Brewing) and a Pulled Pork Slider\, then head down to get an hour head start at the Mountain Brew & BBQ at Noon. Limit of 75 tickets available.\nGeneral Admission (1pm – 4pm) : $35 thru 7/31\, $40 thru 8/16\, $45 at the door : Enjoy unlimited beer samples and listen to awesome live music from Dis N’ Dat. Delicious BBQ available for purchase.\nDesignated Driver & Under 21 (1pm – 4pm) : $15 : Take part in the Mountain Brew & BBQ without consuming alcohol.\n\nReserve Your Spot! \nThis great event supports the Friends of Gunstock\, five 501(c)3 non-profit organizations that call Gunstock Mountain Resort home and whose missions support health and wellness through outdoor recreation. A portion of the event proceeds will go to help fund these incredible programs: \n\nLakes Region Disabled Sports\nGunstock Ski Club\nGunstock Nordic Association\nGunstock Freestyle Academy\nGunstock Mountain Historic Preservation Society
URL:https://theriverboston.com/events/gunstock-mountain-brew-and-bbq-2/
LOCATION:Gunstock Resort\, 719 Cherry Valley Rd.\, Gilford\, NH\,  03249\, United States
END:VEVENT
END:VCALENDAR