BEGIN:VCALENDAR
VERSION:2.0
PRODID:-//92.5 the River - ECPv5.16.3.1//NONSGML v1.0//EN
CALSCALE:GREGORIAN
METHOD:PUBLISH
X-WR-CALNAME:92.5 the River
X-ORIGINAL-URL:https://theriverboston.com
X-WR-CALDESC:Events for 92.5 the River
BEGIN:VTIMEZONE
TZID:America/New_York
BEGIN:DAYLIGHT
TZOFFSETFROM:-0500
TZOFFSETTO:-0400
TZNAME:EDT
DTSTART:20190310T070000
END:DAYLIGHT
BEGIN:STANDARD
TZOFFSETFROM:-0400
TZOFFSETTO:-0500
TZNAME:EST
DTSTART:20191103T060000
END:STANDARD
END:VTIMEZONE
BEGIN:VEVENT
DTSTART;TZID=America/New_York:20190818T050000
DTEND;TZID=America/New_York:20190818T190000
DTSTAMP:20260424T013826
CREATED:20190621T154538Z
LAST-MODIFIED:20190621T154538Z
UID:209469-1566104400-1566154800@theriverboston.com
SUMMARY:Anderson East is Coming to Prescott Park!
DESCRIPTION:There are musicians who call themselves road warriors\, and then there’s Anderson East. An unflinching\, inimitable talent armed with a potent and husky voice\, the gritty-blues and-soul-toasting singer spent two years touring during the release of his debut album Delilah.  \nNow\, he’s bringing his talents to Prescott Park on Sunday\, August 18th! Join the River Street Team for this free concert and chance to win some great prizes! \nDiscover music from Anderson East | recommended River listen: “All On My Mind” \n\n 
URL:https://theriverboston.com/events/anderson-east-is-coming-to-prescott-park/
LOCATION:Prescott Park\, 105 Marcy Street\, Portsmouth\, NH\, 03801\, United States
ORGANIZER;CN="Prescott%20Park":MAILTO:hello@prescottpark.org
END:VEVENT
BEGIN:VEVENT
DTSTART;TZID=America/New_York:20190818T120000
DTEND;TZID=America/New_York:20190818T163000
DTSTAMP:20260424T013826
CREATED:20190719T170752Z
LAST-MODIFIED:20190719T170752Z
UID:209906-1566129600-1566145800@theriverboston.com
SUMMARY:Henniker Rotary 17th Annual Chili Fest!
DESCRIPTION:Saturday\, August 18th\, come on down to Pat’s Peak for a family friendly afternoon filled with food\, beverage and entertainment! Henniker Rotary Club is hosting its 17th annual Chili Fest in an attempt to raise $200\,000 for local\, regional and international service and humanitarian causes. Test out your own batch in the amateur division or make a day out of judging the professionals! \nMark your calendar. Tickets are on sale now for $12 ($6 for kids 10 and under)!
URL:https://theriverboston.com/events/henniker-rotary-17th-annual-chili-fest/
LOCATION:Pats Peak Ski Area\, 686 Flanders Road\, Henniker\, NH\, 03242\, United States
END:VEVENT
END:VCALENDAR