BEGIN:VCALENDAR
VERSION:2.0
PRODID:-//92.5 the River - ECPv5.16.3.1//NONSGML v1.0//EN
CALSCALE:GREGORIAN
METHOD:PUBLISH
X-WR-CALNAME:92.5 the River
X-ORIGINAL-URL:https://theriverboston.com
X-WR-CALDESC:Events for 92.5 the River
BEGIN:VTIMEZONE
TZID:America/New_York
BEGIN:DAYLIGHT
TZOFFSETFROM:-0500
TZOFFSETTO:-0400
TZNAME:EDT
DTSTART:20190310T070000
END:DAYLIGHT
BEGIN:STANDARD
TZOFFSETFROM:-0400
TZOFFSETTO:-0500
TZNAME:EST
DTSTART:20191103T060000
END:STANDARD
END:VTIMEZONE
BEGIN:VEVENT
DTSTART;TZID=America/New_York:20190824T120000
DTEND;TZID=America/New_York:20190824T180000
DTSTAMP:20260423T225110
CREATED:20190412T184148Z
LAST-MODIFIED:20190412T184148Z
UID:208203-1566648000-1566669600@theriverboston.com
SUMMARY:18th Annual Riverfest Seaside Music Festival!
DESCRIPTION:Riverfest is coming to Stage Fort Park in Gloucester!\nThe 18th Annual Riverfest Seaside Music Festival is happening Saturday\, August 24th\nRiverfest offers a day of live music\, food trucks\, drinks\, and activities for all ages by the beautiful waters of Gloucester this year. Bigger than before\, this Riverfest is still free and open to the public for everyone to enjoy. \nThe lineup has not yet been announced so stay tuned on our Riverfest page to see which of your favorite artists are coming to Riverfest this year
URL:https://theriverboston.com/events/18th-annual-riverfest-seaside-music-festival/
LOCATION:Stage Fort Park\, 24 Hough Ave\, Gloucester\, MA\, 01930\, United States
ORGANIZER;CN="92.5%20the%20River":MAILTO:promotions@wxrv.com
END:VEVENT
BEGIN:VEVENT
DTSTART;TZID=America/New_York:20190824T133000
DTEND;TZID=America/New_York:20190824T220000
DTSTAMP:20260423T225110
CREATED:20190814T175918Z
LAST-MODIFIED:20190814T175918Z
UID:210188-1566653400-1566684000@theriverboston.com
SUMMARY:Get Ready For The 10th Annual Adam Ezra Ramble!
DESCRIPTION:Saturday\, August 24th\, Salisbury Beach is hosting its 10th annual Adam Erza Ramble! \nJoin the Adam Erza Group\, Colby James & the Ramblers\, The Contenders\, Junk Yard Field Trip and more in supporting our veterans at this completely free festival! Every last penny will go towards the New England Center Home For Veterans. \nMusic starts at 1:30 and goes all the way until 10\, with fireworks over the beach to wrap up an amazing day! Any other info can be found here. 
URL:https://theriverboston.com/events/get-ready-for-the-10th-annual-adam-ezra-ramble/
LOCATION:Salisbury Beach\, 212 Beach Road\, Salisbury\, MA\, 01952\, United States
END:VEVENT
BEGIN:VEVENT
DTSTART;TZID=America/New_York:20190824T160000
DTEND;TZID=America/New_York:20190824T160000
DTSTAMP:20260423T225110
CREATED:20190819T181317Z
LAST-MODIFIED:20190819T181317Z
UID:210281-1566662400-1566662400@theriverboston.com
SUMMARY:"Not Fade Away" a Buddy Holly Tribute in Stoneham
DESCRIPTION:A Buddy Holly Tribute is coming to Stoneham!\nNot only will you hear Buddy Holly\, but also the sounds of Bill Haley\, The Beach Boys\, Roy Orbison\, Jerry Lee Lewis\, Elvis\, The Beatles and more! With a band comprised of off-Broadway musicians and new variations on classic hits\, “Not Fade Away” is not to be missed! Get tickets now!
URL:https://theriverboston.com/events/not-fade-away-a-buddy-holly-tribute-in-stoneham-2/
LOCATION:Greater Boston Stage Company\, 395 Main Street\, Stoneham\, MA\, 02180\, United States
END:VEVENT
BEGIN:VEVENT
DTSTART;TZID=America/New_York:20190824T190000
DTEND;TZID=America/New_York:20190824T190000
DTSTAMP:20260423T225110
CREATED:20190329T201431Z
LAST-MODIFIED:20190329T201431Z
UID:207892-1566673200-1566673200@theriverboston.com
SUMMARY:Toad The Wet Sprocket and Big Head Todd & The Monsters at the Lowell Summer Music Series!
DESCRIPTION:Toad The Wet Sprocket and Big Head Todd & The Monsters are playing Boarding House Park in Lowell\nAnd tickets are on sale now! \nDiscover more about Toad The Wet Sprocket! And discover more about Big Head Todd & The Monsters! \nStay up to date with Lowell Summer Music festival news and info on Facebook and Twitter \n  \n\nProudly sponsored by the River!
URL:https://theriverboston.com/events/toad-the-wet-sprocket-and-big-head-todd-the-monsters-at-the-lowell-summer-music-series/
LOCATION:Boarding House Park\, 40 French Street\, Lowell\, MA\, 01852\, United States
END:VEVENT
BEGIN:VEVENT
DTSTART;TZID=America/New_York:20190824T190000
DTEND;TZID=America/New_York:20190824T190000
DTSTAMP:20260423T225110
CREATED:20190823T131553Z
LAST-MODIFIED:20190823T131553Z
UID:210298-1566673200-1566673200@theriverboston.com
SUMMARY:Official Riverfest After Party w/ Entrain!
DESCRIPTION:Join us for the Official Riverfest After Party at Mile Marker One with Entrain!\nAfter a day of incredible live music\, head down to Mile Marker One to keep the party going! Get there at 7PM & Entrain takes the stage at 8PM. This is a 21+ event. Get tickets here!
URL:https://theriverboston.com/events/official-riverfest-after-party-w-entrain/
LOCATION:Mile Marker One\, 75 Essex Ave\, Gloucester\, MA\, 01930\, United States
END:VEVENT
BEGIN:VEVENT
DTSTART;TZID=America/New_York:20190824T200000
DTEND;TZID=America/New_York:20190824T200000
DTSTAMP:20260423T225110
CREATED:20190508T174500Z
LAST-MODIFIED:20190508T175522Z
UID:208969-1566676800-1566676800@theriverboston.com
SUMMARY:Lenny Kravitz At Agganis Arena
DESCRIPTION:Lenny Kravitz will be performing in support of his most recent album Raise Vibration at the Agganis Arena on Saturday\, August 24th. The show starts at 8:00pm. Enter to win tickets now before it’s to late! Now through Friday\, May 10th at 9:00am.
URL:https://theriverboston.com/events/lenny-kravitz-agganis-arena/
LOCATION:Agganis Arena\, 925 Commonwealth Avenue\, Boston\, MA\, 02215\, United States
END:VEVENT
BEGIN:VEVENT
DTSTART;TZID=America/New_York:20190824T200000
DTEND;TZID=America/New_York:20190824T220000
DTSTAMP:20260423T225110
CREATED:20190813T153341Z
LAST-MODIFIED:20190813T153341Z
UID:210174-1566676800-1566684000@theriverboston.com
SUMMARY:Lenny Kravitz @ Agganis Arena!
DESCRIPTION:Multi-Grammy Award winning singer-songwriter Lenny Kravitz is coming to Boston’s Agganis Arena\, don’t miss your opportunity to see one of the most preeminent artists of our time! Kravitz’s multiple talents have seen all seven of his studio albums be certified as either platinum or multi-platinum. Tickets are on sale now and can be purchased here! \n 
URL:https://theriverboston.com/events/lenny-kravitz-agganis-arena-2/
LOCATION:Agganis Arena\, 925 Commonwealth Avenue\, Boston\, MA\, 02215\, United States
END:VEVENT
END:VCALENDAR