BEGIN:VCALENDAR
VERSION:2.0
PRODID:-//92.5 the River - ECPv5.16.3.1//NONSGML v1.0//EN
CALSCALE:GREGORIAN
METHOD:PUBLISH
X-WR-CALNAME:92.5 the River
X-ORIGINAL-URL:https://theriverboston.com
X-WR-CALDESC:Events for 92.5 the River
BEGIN:VTIMEZONE
TZID:America/New_York
BEGIN:DAYLIGHT
TZOFFSETFROM:-0500
TZOFFSETTO:-0400
TZNAME:EDT
DTSTART:20190310T070000
END:DAYLIGHT
BEGIN:STANDARD
TZOFFSETFROM:-0400
TZOFFSETTO:-0500
TZNAME:EST
DTSTART:20191103T060000
END:STANDARD
END:VTIMEZONE
BEGIN:VEVENT
DTSTART;TZID=America/New_York:20190829T170000
DTEND;TZID=America/New_York:20190829T190000
DTSTAMP:20260424T014200
CREATED:20190827T192800Z
LAST-MODIFIED:20190827T192800Z
UID:210329-1567098000-1567105200@theriverboston.com
SUMMARY:Candia Cruise Night With The River Roadies!
DESCRIPTION:Candia Cruise Night is an enjoyable old fashioned gathering for friends\, family and the general public to share stories\, mingle or just to relax with a great group of people. There’s always lots of great cars\, trucks and other unique vehicles to see each week! While there\, grab a delicious burger or hot dog from the outdoor grill or an ice cream\, sundae\, shake\, frappe or smoothie from the Ice Cream Shack! \n\nJoin the River Street Team on-site this Thursday from 5-7 p.m. to to play games\, take a shot at some prizes\, and enter to win passes to the Highland Games! \nAll proceeds raised are donated to the Candia Volunteer Fire Department!
URL:https://theriverboston.com/events/candia-cruise-night-with-the-river-roadies/
LOCATION:Candia First Stoppe Country Store\, 285 Old Candia Road\, Candia\, NH\, 03034\, United States
END:VEVENT
END:VCALENDAR