BEGIN:VCALENDAR
VERSION:2.0
PRODID:-//92.5 the River - ECPv5.16.3.1//NONSGML v1.0//EN
CALSCALE:GREGORIAN
METHOD:PUBLISH
X-WR-CALNAME:92.5 the River
X-ORIGINAL-URL:https://theriverboston.com
X-WR-CALDESC:Events for 92.5 the River
BEGIN:VTIMEZONE
TZID:America/New_York
BEGIN:DAYLIGHT
TZOFFSETFROM:-0500
TZOFFSETTO:-0400
TZNAME:EDT
DTSTART:20190310T070000
END:DAYLIGHT
BEGIN:STANDARD
TZOFFSETFROM:-0400
TZOFFSETTO:-0500
TZNAME:EST
DTSTART:20191103T060000
END:STANDARD
END:VTIMEZONE
BEGIN:VEVENT
DTSTART;TZID=America/New_York:20190830T190000
DTEND;TZID=America/New_York:20190830T220000
DTSTAMP:20260424T001750
CREATED:20190808T182514Z
LAST-MODIFIED:20190808T182514Z
UID:210135-1567191600-1567202400@theriverboston.com
SUMMARY:Darlingside @ Prescott Park!
DESCRIPTION:  \nOn Friday\, August 30th the Boston-based indie-folk duo Darlingside is taking the stage at Prescott Park! The band performs a single vocal microphone\, inviting audiences to a performance where all voices become one. The band regularly tours throughout the United States\, Canada\, the UK\, and Europe\, but now is your opportunity to see them here! Click here for more information. The River Roadies will be there with a chance to win some River merchandise and tickets to some of Boston’s best shows!
URL:https://theriverboston.com/events/darlingside-prescott-park/
LOCATION:Prescott Park\, 105 Marcy Street\, Portsmouth\, NH\, 03801\, United States
ORGANIZER;CN="Prescott%20Park":MAILTO:hello@prescottpark.org
END:VEVENT
BEGIN:VEVENT
DTSTART;TZID=America/New_York:20190830T193000
DTEND;TZID=America/New_York:20190830T193000
DTSTAMP:20260424T001750
CREATED:20190412T195101Z
LAST-MODIFIED:20190412T195101Z
UID:208207-1567193400-1567193400@theriverboston.com
SUMMARY:The Mavericks at the Lowell Summer Music Series!
DESCRIPTION:The Mavericks are playing Boarding House Park in Lowell\nAnd tickets are on sale now! \nDiscover music from The Mavericks!| recommended River listen: “Dance The Night Away” \nStay up to date with Lowell Summer Music festival news and info on Facebook and Twitter \n  \n\nProudly sponsored by the River!
URL:https://theriverboston.com/events/the-mavericks-at-the-lowell-summer-music-series/
LOCATION:Boarding House Park\, 40 French Street\, Lowell\, MA\, 01852\, United States
END:VEVENT
BEGIN:VEVENT
DTSTART;TZID=America/New_York:20190830T200000
DTEND;TZID=America/New_York:20190830T230000
DTSTAMP:20260424T001750
CREATED:20190621T185908Z
LAST-MODIFIED:20190701T141523Z
UID:209477-1567195200-1567206000@theriverboston.com
SUMMARY:The Purists by Dan McCabe is Coming to the Huntington Theatre Company!
DESCRIPTION:Tony award-winning actor Billy Porter is coming to the Huntington Theatre Company to direct the  thrilling world premiere of Dan McCabe’s new play\, The Purist! With raw emotion and uproarious humor\, The Purists asks\, what is friendship? How can we embrace new ideas? And what does it mean to be wholly yourself? \nCatch this newest work of art anytime between August 30th – September 29th! Tickets start at $49 a piece.
URL:https://theriverboston.com/events/the-purists-by-dan-mccabe-is-coming-to-the-huntington-theatre-company/
LOCATION:Huntington Theatre Company\, 264 Huntington Avenue\, Boston\, MA\, 02115\, United States
END:VEVENT
END:VCALENDAR