BEGIN:VCALENDAR
VERSION:2.0
PRODID:-//92.5 the River - ECPv5.16.3.1//NONSGML v1.0//EN
CALSCALE:GREGORIAN
METHOD:PUBLISH
X-WR-CALNAME:92.5 the River
X-ORIGINAL-URL:https://theriverboston.com
X-WR-CALDESC:Events for 92.5 the River
BEGIN:VTIMEZONE
TZID:America/New_York
BEGIN:DAYLIGHT
TZOFFSETFROM:-0500
TZOFFSETTO:-0400
TZNAME:EDT
DTSTART:20190310T070000
END:DAYLIGHT
BEGIN:STANDARD
TZOFFSETFROM:-0400
TZOFFSETTO:-0500
TZNAME:EST
DTSTART:20191103T060000
END:STANDARD
END:VTIMEZONE
BEGIN:VEVENT
DTSTART;TZID=America/New_York:20190909T080000
DTEND;TZID=America/New_York:20190909T170000
DTSTAMP:20260423T225211
CREATED:20190909T153934Z
LAST-MODIFIED:20190923T201441Z
UID:210410-1568016000-1568048400@theriverboston.com
SUMMARY:The Ghost Of Paul Revere @ The Dana Center!
DESCRIPTION:River favorites and accomplished Homegrown artists\, Ghost of Paul Revere\, are playing another local show! This time you can catch them and their signature blend of folk\, bluegrass\, and rock to the Dana Center in Manchester\, NH! \nLocated on the campus of St Anselm College\, the Dana Center for the Humanities is playing host to the hypnotic harmonies and rollicking good time that only Ghost of Paul Revere can provide! It’s a perfect way to kick off your weekend! \nDon’t miss Ghost of Paul Revere in Manchester! Tickets are available now!
URL:https://theriverboston.com/events/the-ghost-of-paul-rever-the-dana-center/
END:VEVENT
END:VCALENDAR