BEGIN:VCALENDAR
VERSION:2.0
PRODID:-//92.5 the River - ECPv5.16.3.1//NONSGML v1.0//EN
CALSCALE:GREGORIAN
METHOD:PUBLISH
X-WR-CALNAME:92.5 the River
X-ORIGINAL-URL:https://theriverboston.com
X-WR-CALDESC:Events for 92.5 the River
BEGIN:VTIMEZONE
TZID:America/New_York
BEGIN:DAYLIGHT
TZOFFSETFROM:-0500
TZOFFSETTO:-0400
TZNAME:EDT
DTSTART:20190310T070000
END:DAYLIGHT
BEGIN:STANDARD
TZOFFSETFROM:-0400
TZOFFSETTO:-0500
TZNAME:EST
DTSTART:20191103T060000
END:STANDARD
END:VTIMEZONE
BEGIN:VEVENT
DTSTART;TZID=America/New_York:20190924T190000
DTEND;TZID=America/New_York:20190924T190000
DTSTAMP:20260423T213727
CREATED:20190625T171208Z
LAST-MODIFIED:20190923T200646Z
UID:209559-1569351600-1569351600@theriverboston.com
SUMMARY:Xavier Rudd at The Paradise Rock Club!
DESCRIPTION:Known for his songs that incorporate socially conscious themes such as spirituality and environmentalism\, singer-songwriter and multi-instrumentalist Xavier Rudd is coming to the Paradise Rock Club in Boston! For ticket information click here.
URL:https://theriverboston.com/events/xavier-rudd-at-the-paradise-rock-club/
LOCATION:Paradise Rock Club\, 967 Commonwealth Ave\, Boston\, MA\, 02215\, United States
END:VEVENT
BEGIN:VEVENT
DTSTART;TZID=America/New_York:20190924T193000
DTEND;TZID=America/New_York:20190924T223000
DTSTAMP:20260423T213727
CREATED:20190516T164339Z
LAST-MODIFIED:20190828T144108Z
UID:209092-1569353400-1569364200@theriverboston.com
SUMMARY:Sunset Boulevard At The North Shore Music Theatre
DESCRIPTION:Andrew Lloyd Webber’s Tony Winning play\, Sunset Boulevard is coming to the North Shore Music Theatre! Tickets are on sale now and the show runs September 24th – October 6th. Be sure to also follow North Shore Music Theatre on Instagram\, for more updates.
URL:https://theriverboston.com/events/sunset-boulevard-at-the-north-shore-music-theatre/
LOCATION:North Shore Music Theatre\, 62 Dunham Road\, Beverly\, MA\, 01915\, United States
END:VEVENT
BEGIN:VEVENT
DTSTART;TZID=America/New_York:20190924T193000
DTEND;TZID=America/New_York:20190924T230000
DTSTAMP:20260423T213727
CREATED:20190812T184816Z
LAST-MODIFIED:20190819T172109Z
UID:210168-1569353400-1569366000@theriverboston.com
SUMMARY:Collective Soul Is Coming To Capital Center for the Arts!
DESCRIPTION:Book this date: Tuesday\, September 24th. \nWhy\, you ask? Because Collective Soul is coming to the Capital Center for the Arts on their 25th anniversary tour and tickets are on sale now! \nEver since the barnburning rock band from Stockbridge\, Georgia burst onto the national scene\, they’ve been on an upward trajectory that’s seen them play to sold-out audiences across the globe while concurrently amassing an impressive catalog of beloved songs. So help them celebrate in fashion by bringing the house down!
URL:https://theriverboston.com/events/collective-soul-is-coming-to-chubb-theatre/
LOCATION:Capital Center for the Arts\, 44 S Main Street\, Concord\, NH\, 03301\, United States
END:VEVENT
BEGIN:VEVENT
DTSTART;TZID=America/New_York:20190924T200000
DTEND;TZID=America/New_York:20190924T200000
DTSTAMP:20260423T213727
CREATED:20190924T200921Z
LAST-MODIFIED:20190924T200921Z
UID:210571-1569355200-1569355200@theriverboston.com
SUMMARY:Big Bad Voodoo Daddy at The Cabot
DESCRIPTION:Big Bad Voodoo Daddy is coming to The Cabot!\nSee Southern California’s contemporary swing revival group\, Big Bad Voodoo Daddy\, at The Cabot Friday\, September 27th! Before you buy tickets\, be sure to enter to win a pair now through Wednesday\, 9/25!
URL:https://theriverboston.com/events/big-bad-voodoo-daddy-at-the-cabot/
LOCATION:THE CABOT\, 286 Cabot Street\, Beverly\, MA\, 01915\, United States
END:VEVENT
END:VCALENDAR