BEGIN:VCALENDAR
VERSION:2.0
PRODID:-//92.5 the River - ECPv5.16.3.1//NONSGML v1.0//EN
CALSCALE:GREGORIAN
METHOD:PUBLISH
X-WR-CALNAME:92.5 the River
X-ORIGINAL-URL:https://theriverboston.com
X-WR-CALDESC:Events for 92.5 the River
BEGIN:VTIMEZONE
TZID:America/New_York
BEGIN:DAYLIGHT
TZOFFSETFROM:-0500
TZOFFSETTO:-0400
TZNAME:EDT
DTSTART:20190310T070000
END:DAYLIGHT
BEGIN:STANDARD
TZOFFSETFROM:-0400
TZOFFSETTO:-0500
TZNAME:EST
DTSTART:20191103T060000
END:STANDARD
END:VTIMEZONE
BEGIN:VEVENT
DTSTART;TZID=America/New_York:20190929T190000
DTEND;TZID=America/New_York:20190929T190000
DTSTAMP:20260424T043157
CREATED:20190611T155102Z
LAST-MODIFIED:20190611T155102Z
UID:209342-1569783600-1569783600@theriverboston.com
SUMMARY:Matt Hatt and Edda Glass at The Music Hall Loft!
DESCRIPTION:As part of the Live at the Loft series\, Matt Hatt and Edda Glass will be taking the stage at The Music Hall Loft in Portsmouth\, New Hampshire on Sunday\, September 29 at 7:00 PM! Glass’ unmistakable voice and Hatt’s lyrical guitar make the pair one of the most outstanding shows of the fall! Tickets are on sale now.
URL:https://theriverboston.com/events/matt-hatt-and-edda-glass-at-the-music-hall-loft/
LOCATION:The Music Hall\, 28 Chestnut Street\, Portsmouth\, NH\, 03801\, United States
END:VEVENT
BEGIN:VEVENT
DTSTART;TZID=America/New_York:20190929T190000
DTEND;TZID=America/New_York:20190929T190000
DTSTAMP:20260424T043157
CREATED:20190924T200150Z
LAST-MODIFIED:20190924T200150Z
UID:210570-1569783600-1569783600@theriverboston.com
SUMMARY:Collective Soul is coming to The Cabot!
DESCRIPTION:Collective Soul is coming to The Cabot on their 25th anniversary tour and you can enter to win tickets now before you buy! \nEver since the barnburning rock band from Stockbridge\, Georgia burst onto the national scene\, they’ve been on an upward trajectory that’s seen them play to sold-out audiences across the globe while concurrently amassing an impressive catalog of beloved songs. So help them celebrate in fashion by bringing the house down!
URL:https://theriverboston.com/events/collective-soul-is-coming-to-the-cabot/
LOCATION:THE CABOT\, 286 Cabot Street\, Beverly\, MA\, 01915\, United States
END:VEVENT
BEGIN:VEVENT
DTSTART;TZID=America/New_York:20190929T200000
DTEND;TZID=America/New_York:20190929T230000
DTSTAMP:20260424T043157
CREATED:20190701T141821Z
LAST-MODIFIED:20190701T141821Z
UID:209618-1569787200-1569798000@theriverboston.com
SUMMARY:The Purists by Dan McCabe is Coming to the Huntington Theatre Company!
DESCRIPTION:Tony award-winning actor Billy Porter is coming to the Huntington Theatre Company to direct the thrilling world premiere of Dan McCabe’s new play\, The Purist! With raw emotion and uproarious humor\, The Purists asks\, what is friendship? How can we embrace new ideas? And what does it mean to be wholly yourself? \nCatch this newest work of art anytime between August 30th – September 29th! Tickets start at $49 a piece.
URL:https://theriverboston.com/events/the-purists-by-dan-mccabe-is-coming-to-the-huntington-theatre-company-2/
LOCATION:Huntington Theatre Company\, 264 Huntington Avenue\, Boston\, MA\, 02115\, United States
END:VEVENT
END:VCALENDAR