BEGIN:VCALENDAR
VERSION:2.0
PRODID:-//92.5 the River - ECPv5.16.3.1//NONSGML v1.0//EN
CALSCALE:GREGORIAN
METHOD:PUBLISH
X-WR-CALNAME:92.5 the River
X-ORIGINAL-URL:https://theriverboston.com
X-WR-CALDESC:Events for 92.5 the River
BEGIN:VTIMEZONE
TZID:America/New_York
BEGIN:DAYLIGHT
TZOFFSETFROM:-0500
TZOFFSETTO:-0400
TZNAME:EDT
DTSTART:20190310T070000
END:DAYLIGHT
BEGIN:STANDARD
TZOFFSETFROM:-0400
TZOFFSETTO:-0500
TZNAME:EST
DTSTART:20191103T060000
END:STANDARD
END:VTIMEZONE
BEGIN:VEVENT
DTSTART;TZID=America/New_York:20191004T190000
DTEND;TZID=America/New_York:20191004T190000
DTSTAMP:20260423T213723
CREATED:20190419T165901Z
LAST-MODIFIED:20190926T171409Z
UID:208717-1570215600-1570215600@theriverboston.com
SUMMARY:Noah Kahan at the Paradise Rock Club!
DESCRIPTION:Noah Kahan is coming to Boston!\nNoah Kahan is celebrating the release of his debut album\, “Busyhead”\, releasing June 14th\, with a weekend of shows at the Paradise Rock Club. Get your tickets now from Live Nation! \nOn Busyhead\, Noah Kahan shared: \n\n“I just want to help people feel a little more at home in their heads. I’ve been told my music is a place where people can escape from themselves\, and that is something I do not ever want to change or alter\, and I did not do that for this record. I wanted to paint as honest a picture as I could of myself and my journey. I’m so proud of this album and I hope you like it.”
URL:https://theriverboston.com/events/noah-kahan-at-the-paradise-rock-club/
LOCATION:Paradise Rock Club\, 967 Commonwealth Ave\, Boston\, MA\, 02215\, United States
END:VEVENT
BEGIN:VEVENT
DTSTART;TZID=America/New_York:20191004T193000
DTEND;TZID=America/New_York:20191004T220000
DTSTAMP:20260423T213723
CREATED:20190624T172624Z
LAST-MODIFIED:20190926T171453Z
UID:209521-1570217400-1570226400@theriverboston.com
SUMMARY:The Avett Brothers at the DCU Center!
DESCRIPTION:Hear The Avett Brothers’ new album live first before it comes out the same day! The Avett Brothers’ music has roots in traditional folk and bluegrass\, but also captures the high spirits and no-boundaries attitude of rock & roll. Check out their new single\, “High Steppin’!” \nEnter to win tickets before June 28th to see The Avett Brothers at the DCU Center! Buy tickets here.
URL:https://theriverboston.com/events/the-avett-brothers-at-the-dcu-center-on-friday-october-4th/
LOCATION:DCU Center\, 50 Foster St\, Worcester\, MA\, 01608\, United States
END:VEVENT
BEGIN:VEVENT
DTSTART;TZID=America/New_York:20191004T200000
DTEND;TZID=America/New_York:20191004T230000
DTSTAMP:20260423T213723
CREATED:20190610T183344Z
LAST-MODIFIED:20190610T183344Z
UID:209321-1570219200-1570230000@theriverboston.com
SUMMARY:Patty Larkin is coming to the Music Hall Loft!
DESCRIPTION:Friday\, October 4th at 8 PM\, Patty Larkin’s folk-urban pop music will be on display at the Music Hall Loft! In the words of Billboard\, “[She’s a] triple threat…An absolutely stunning guitarist\, Larkin matches her instrumental chops as a vocalist and songwriter.” \nTickets can be found here! \nWhile you’re on their website\, check out the rest of the Live at the Loft series\, which features artists from around the corner and around the world!
URL:https://theriverboston.com/events/patty-larkin-is-coming-to-the-music-hall-loft/
LOCATION:The Music Hall\, 28 Chestnut Street\, Portsmouth\, NH\, 03801\, United States
END:VEVENT
END:VCALENDAR