BEGIN:VCALENDAR
VERSION:2.0
PRODID:-//92.5 the River - ECPv5.16.3.1//NONSGML v1.0//EN
CALSCALE:GREGORIAN
METHOD:PUBLISH
X-WR-CALNAME:92.5 the River
X-ORIGINAL-URL:https://theriverboston.com
X-WR-CALDESC:Events for 92.5 the River
BEGIN:VTIMEZONE
TZID:America/New_York
BEGIN:DAYLIGHT
TZOFFSETFROM:-0500
TZOFFSETTO:-0400
TZNAME:EDT
DTSTART:20190310T070000
END:DAYLIGHT
BEGIN:STANDARD
TZOFFSETFROM:-0400
TZOFFSETTO:-0500
TZNAME:EST
DTSTART:20191103T060000
END:STANDARD
END:VTIMEZONE
BEGIN:VEVENT
DTSTART;TZID=America/New_York:20191005T110000
DTEND;TZID=America/New_York:20191005T160000
DTSTAMP:20260423T200744
CREATED:20190930T183612Z
LAST-MODIFIED:20190930T183612Z
UID:210620-1570273200-1570291200@theriverboston.com
SUMMARY:Exeter Powder Keg Beer And Chili Festival
DESCRIPTION:Join our Street Team on October 5th at Swasey Parkway in Exeter\, NH for the 8th annual Powder Keg Beer & Chili Festival! Our team will be giving away station merch in games of beirut\, you can also enter to win tickets to see The Black Keys with opener\, Modest Mouse! Plus\, local restaurants and breweries will be competing for the Peoples Choice Cook-Off! Come sample drinks from our line-up of breweries including\, Newburyport Brewing Co.\, SmuttyNose Brewing Co.\, Ipswich Ale Brewery! Enjoy a variety of vendors at the event\, such as\, Cabot Creamery\, Memories Premium Ice Cream\, Krave Jerky\, Lexi’s Burgers\, Brothers Leather Co. among others! Vote on your favorite chili from all your favorite competitors\, Sea Dog Brewing\, Stone Face Brewing Co.\, The Thirsty Moose and so many more! \nTickets are available now at the event website\, with special accommodations for designated drivers and kids! \nDon’t miss one of our favorite events of the season! See you there!
URL:https://theriverboston.com/events/exeter-powder-keg-beer-and-chili-festival/
LOCATION:Swasey Parkway\, Swasey Parkway\, Exeter\, NH\, 03833\, United States
ORGANIZER;CN="Foy%20Insurance":MAILTO:Exeter@foyinsurance.com
END:VEVENT
BEGIN:VEVENT
DTSTART;TZID=America/New_York:20191005T190000
DTEND;TZID=America/New_York:20191005T190000
DTSTAMP:20260423T200744
CREATED:20190419T170045Z
LAST-MODIFIED:20190926T171609Z
UID:208718-1570302000-1570302000@theriverboston.com
SUMMARY:Noah Kahan at the Paradise Rock Club!
DESCRIPTION:Noah Kahan is coming to Boston!\nNoah Kahan is celebrating the release of his debut album\, “Busyhead”\, releasing June 14th\, with a weekend of shows at the Paradise Rock Club. Get your tickets now from Live Nation! \nOn Busyhead\, Noah Kahan shared: \n\n“I just want to help people feel a little more at home in their heads. I’ve been told my music is a place where people can escape from themselves\, and that is something I do not ever want to change or alter\, and I did not do that for this record. I wanted to paint as honest a picture as I could of myself and my journey. I’m so proud of this album and I hope you like it.”
URL:https://theriverboston.com/events/noah-kahan-at-the-paradise-rock-club-2/
LOCATION:Paradise Rock Club\, 967 Commonwealth Ave\, Boston\, MA\, 02215\, United States
END:VEVENT
BEGIN:VEVENT
DTSTART;TZID=America/New_York:20191005T200000
DTEND;TZID=America/New_York:20191005T200000
DTSTAMP:20260423T200744
CREATED:20190328T203155Z
LAST-MODIFIED:20190926T171655Z
UID:207815-1570305600-1570305600@theriverboston.com
SUMMARY:Maggie Rogers at the Wang Theatre!
DESCRIPTION:Maggie Rogers is coming to Boston!\nThis fall catch Maggie Rogers performing her critically acclaimed debut album\, Heard It in a Past Life! \nTickets go on sale Friday\, March 29th and can be purchased here. \nVisit her website for more information. \nThis awesome show is brought to you by:
URL:https://theriverboston.com/events/maggie-rogers-at-the-wang-theatre/
LOCATION:Boch Center Wang Theatre\, 270 Tremont St\, Boston\, MA\, 02116\, United States
ORGANIZER;CN="Bowery%20Boston":MAILTO:info@boweryboston.com
END:VEVENT
BEGIN:VEVENT
DTSTART;TZID=America/New_York:20191005T200000
DTEND;TZID=America/New_York:20191005T200000
DTSTAMP:20260423T200744
CREATED:20190611T160039Z
LAST-MODIFIED:20190926T171140Z
UID:209346-1570305600-1570305600@theriverboston.com
SUMMARY:Ari Hest at The Music Hall Loft!
DESCRIPTION:As part of the Live at the Loft series\, Grammy nominated singer/songwriter Ari Hest will perform at The Music Hall Loft on Saturday\, October 5! Hest released his ninth LP\, “Natural”\, in spring 2017 and is also half of the Bossa Nova inspired band Bluebirds of Paradise\, a collaboration with Chrissi Poland. Hest’s music has appeared on numerous television and film projects including “One Tree Hill” “The Path” and “Army Wives” to name a few. Get your tickets now!. \n 
URL:https://theriverboston.com/events/ari-hest-at-the-music-hall-loft/
LOCATION:The Music Hall\, 28 Chestnut Street\, Portsmouth\, NH\, 03801\, United States
END:VEVENT
END:VCALENDAR