BEGIN:VCALENDAR
VERSION:2.0
PRODID:-//92.5 the River - ECPv5.16.3.1//NONSGML v1.0//EN
CALSCALE:GREGORIAN
METHOD:PUBLISH
X-WR-CALNAME:92.5 the River
X-ORIGINAL-URL:https://theriverboston.com
X-WR-CALDESC:Events for 92.5 the River
BEGIN:VTIMEZONE
TZID:America/New_York
BEGIN:DAYLIGHT
TZOFFSETFROM:-0500
TZOFFSETTO:-0400
TZNAME:EDT
DTSTART:20190310T070000
END:DAYLIGHT
BEGIN:STANDARD
TZOFFSETFROM:-0400
TZOFFSETTO:-0500
TZNAME:EST
DTSTART:20191103T060000
END:STANDARD
END:VTIMEZONE
BEGIN:VEVENT
DTSTART;VALUE=DATE:20191012
DTEND;VALUE=DATE:20191015
DTSTAMP:20260424T060430
CREATED:20190919T210230Z
LAST-MODIFIED:20191003T172917Z
UID:210531-1570838400-1571097599@theriverboston.com
SUMMARY:Fall Foliage Celebration At Waterville Valley
DESCRIPTION:Want to know where to find the best foliage this fall? Come to a valley in the midst of the White Mountain National Forest to enjoy fall colors that have it all! Waterville Valley has a weekend dedicated to the spectacular foliage of the White Mountains\, from Saturday\, October 12th to Monday\, October 14th. This is a weekend celebration of family fun with all kinds of events for everyone! Spend time in the forest\, not in your car. Waterville Valley has dozens of hiking trails starting in the heart of town and lead to endless destinations including cliffs\, waterfalls\, flumes\, rockslides\, and stunning vistas. Waterville Valley also offers golf\, tennis\, canoeing and kayaking\, all surrounded by brilliant colors.
URL:https://theriverboston.com/events/fall-foliage-celebration-at-waterville-valley/
LOCATION:Waterville Valley Mountain Resort\, 1 Ski Area Rd\, Waterville Valley\, NH\, 03215\, United States
END:VEVENT
BEGIN:VEVENT
DTSTART;TZID=America/New_York:20191012T200000
DTEND;TZID=America/New_York:20191012T200000
DTSTAMP:20260424T060430
CREATED:20190328T194041Z
LAST-MODIFIED:20190926T172819Z
UID:207811-1570910400-1570910400@theriverboston.com
SUMMARY:The Head and the Heart at the Agganis Arena!
DESCRIPTION:The Head and the Heart are coming to Boston!\nLearn more about the band and check out new music at their website! \nTickets for the show go on sale starting on Friday\, March 29th\, and can be found here to purchase. \nThis show is brought to you by:
URL:https://theriverboston.com/events/the-head-and-the-heart-at-the-agganis-arena/
LOCATION:Agganis Arena\, 925 Commonwealth Avenue\, Boston\, MA\, 02215\, United States
END:VEVENT
BEGIN:VEVENT
DTSTART;TZID=America/New_York:20191012T200000
DTEND;TZID=America/New_York:20191012T200000
DTSTAMP:20260424T060430
CREATED:20190508T185430Z
LAST-MODIFIED:20190926T173100Z
UID:208981-1570910400-1570910400@theriverboston.com
SUMMARY:The River Presents Ray LaMontagne At Boch Center Wang Theatre
DESCRIPTION:The River presents\, Ray LaMontagne at the Boch Center Wang Theatre! He will be performing in support of his most recent album Part Of The Light. The show is on Saturday\, October 12th and it starts at 8:00pm. Enter to win tickets before its to late! Now through Friday\, May 10th at 9:00am.
URL:https://theriverboston.com/events/the-river-presents-ray-lamontagne-at-boch-center-wang-theatre/
LOCATION:Boch Center Wang Theatre\, 270 Tremont St\, Boston\, MA\, 02116\, United States
END:VEVENT
END:VCALENDAR