BEGIN:VCALENDAR
VERSION:2.0
PRODID:-//92.5 the River - ECPv5.16.3.1//NONSGML v1.0//EN
CALSCALE:GREGORIAN
METHOD:PUBLISH
X-WR-CALNAME:92.5 the River
X-ORIGINAL-URL:https://theriverboston.com
X-WR-CALDESC:Events for 92.5 the River
BEGIN:VTIMEZONE
TZID:America/New_York
BEGIN:DAYLIGHT
TZOFFSETFROM:-0500
TZOFFSETTO:-0400
TZNAME:EDT
DTSTART:20190310T070000
END:DAYLIGHT
BEGIN:STANDARD
TZOFFSETFROM:-0400
TZOFFSETTO:-0500
TZNAME:EST
DTSTART:20191103T060000
END:STANDARD
END:VTIMEZONE
BEGIN:VEVENT
DTSTART;TZID=America/New_York:20191015T190000
DTEND;TZID=America/New_York:20191015T230000
DTSTAMP:20260424T102806
CREATED:20190605T180109Z
LAST-MODIFIED:20190924T175105Z
UID:209283-1571166000-1571180400@theriverboston.com
SUMMARY:Bon Iver is coming to TD Garden!
DESCRIPTION:Bon Iver at TD Garden\nAcclaimed indie artist Bon Iver is returning to Boston on tour for the release of their latest album\, i\,i! Don’t miss their performance at the TD Garden with Feist this October! Buy tickets here. \nBon Iver’s fourth album\, i\,i\, moves forward from 22\, A Million with impressionist swells of sound\, impenetrable-yet-tender lyrics\, and mesmerizing studio tricks. Vernon himself sings with more texture and conviction than ever before. He’s shifted fully from vessel to commander\, steering the music instead of seeping into it. Read the full Pitchfork review here. \nWhile you’re here\, check out the latest releases from Bon Iver!
URL:https://theriverboston.com/events/bon-iver-at-the-td-garden/
LOCATION:TD Garden\, 100 Legends Way\, Boston\, MA\, 02114\, United States
END:VEVENT
END:VCALENDAR