BEGIN:VCALENDAR
VERSION:2.0
PRODID:-//92.5 the River - ECPv5.16.3.1//NONSGML v1.0//EN
CALSCALE:GREGORIAN
METHOD:PUBLISH
X-WR-CALNAME:92.5 the River
X-ORIGINAL-URL:https://theriverboston.com
X-WR-CALDESC:Events for 92.5 the River
BEGIN:VTIMEZONE
TZID:America/New_York
BEGIN:DAYLIGHT
TZOFFSETFROM:-0500
TZOFFSETTO:-0400
TZNAME:EDT
DTSTART:20190310T070000
END:DAYLIGHT
BEGIN:STANDARD
TZOFFSETFROM:-0400
TZOFFSETTO:-0500
TZNAME:EST
DTSTART:20191103T060000
END:STANDARD
END:VTIMEZONE
BEGIN:VEVENT
DTSTART;TZID=America/New_York:20191020T080000
DTEND;TZID=America/New_York:20191020T120000
DTSTAMP:20260424T114618
CREATED:20191017T142315Z
LAST-MODIFIED:20191017T143427Z
UID:210844-1571558400-1571572800@theriverboston.com
SUMMARY:Boston Brain Tumor Walk
DESCRIPTION:Join the River Roadies at the Boston Brain Tumor Walk!\nOver the last 9 years the Boston Brain Tumor Walk has raised over $4.9 Million towards brain tumor research. All proceeds raised allow National Brain Tumor Society to advance research and public policy\, we aim to improve the availability of new and better treatments and fuel the discovery of a cure for brain tumors. This event offers individuals and teams a chance to honor and remember loved ones and connect with others in the brain tumor community.
URL:https://theriverboston.com/events/boston-brain-tumor-walk-2/
LOCATION:DCR Mother’s Rest at Carson Beach\, 180 Mt. Vernon Street\, Dorchester\, MA\, 02125\, United States
END:VEVENT
BEGIN:VEVENT
DTSTART;TZID=America/New_York:20191020T190000
DTEND;TZID=America/New_York:20191020T220000
DTSTAMP:20260424T114618
CREATED:20190617T165715Z
LAST-MODIFIED:20191003T173345Z
UID:209418-1571598000-1571608800@theriverboston.com
SUMMARY:The River Presents: Dermot Kennedy at the House of Blues!
DESCRIPTION:Sunday\, October 20th at 7 PM\, Dermot Kennedy will be at the House of Blues! \nOn his brilliant debut EP\, ‘Doves & Ravens\,’ the young Dubliner draws inspiration from all the moments of brightness and darkness this world has to offer\, crafting music that’s at once soaring and intimate\, stripped-back and explosive. If you’re craving more\, take a listen to his new single\, “Outnumbered.” \nTickets are on sale now!
URL:https://theriverboston.com/events/dermot-kennedy-is-coming-to-the-house-of-blues/
LOCATION:House of Blues Boston\, 15 Landsdowne Street\, Boston\, MA\, 02215\, United States
END:VEVENT
BEGIN:VEVENT
DTSTART;TZID=America/New_York:20191020T190000
DTEND;TZID=America/New_York:20191020T220000
DTSTAMP:20260424T114618
CREATED:20190828T143801Z
LAST-MODIFIED:20191003T173502Z
UID:210332-1571598000-1571608800@theriverboston.com
SUMMARY:Chick Corea Trio at Symphony Hall
DESCRIPTION:Chick Corea Trio at Symphony Hall – Sunday\, October 20th\nChick Corea brings together bass powerhouse Christian McBride and drum master Brian Blade in a trio that earned two Grammy Awards for their first outing\, 2014’s landmark 3-CD set\, Trilogy. “Both are master musicians and together we have an easy rapport\,” Chick says of McBride and Blade. “There is a lot of give and take in our music. It’s always a lot of fun.” Don’t miss these Celebrity Series favorites at Symphony Hall on Sunday\, October 20th. Tickets are on sale now. Show starts at 7:00PM. \nThis event is brought to you by:
URL:https://theriverboston.com/events/chick-corea-trio-at-symphony-hall/
LOCATION:Symphony Hall\, 301 Massachusetts Ave\, Boston\, MA\, 02115\, United States
END:VEVENT
END:VCALENDAR