BEGIN:VCALENDAR
VERSION:2.0
PRODID:-//92.5 the River - ECPv5.16.3.1//NONSGML v1.0//EN
CALSCALE:GREGORIAN
METHOD:PUBLISH
X-WR-CALNAME:92.5 the River
X-ORIGINAL-URL:https://theriverboston.com
X-WR-CALDESC:Events for 92.5 the River
BEGIN:VTIMEZONE
TZID:America/New_York
BEGIN:DAYLIGHT
TZOFFSETFROM:-0500
TZOFFSETTO:-0400
TZNAME:EDT
DTSTART:20190310T070000
END:DAYLIGHT
BEGIN:STANDARD
TZOFFSETFROM:-0400
TZOFFSETTO:-0500
TZNAME:EST
DTSTART:20191103T060000
END:STANDARD
END:VTIMEZONE
BEGIN:VEVENT
DTSTART;TZID=America/New_York:20191025T190000
DTEND;TZID=America/New_York:20191025T190000
DTSTAMP:20260424T043921
CREATED:20191015T204808Z
LAST-MODIFIED:20191015T204808Z
UID:210826-1572030000-1572030000@theriverboston.com
SUMMARY:Jenny Lewis at House Of Blues!
DESCRIPTION:Jenny Lewis is coming to the House Of Blues!\nLead singer of Rilo Kiley\, Jenny Lewis\, is stopping in Boston! Tickets are on sale now\, but you can enter to win tickets before you buy! Contest ends 10/20.
URL:https://theriverboston.com/events/jenny-lewis-at-house-of-blues/
LOCATION:House of Blues Boston\, 15 Landsdowne Street\, Boston\, MA\, 02215\, United States
END:VEVENT
BEGIN:VEVENT
DTSTART;TZID=America/New_York:20191025T200000
DTEND;TZID=America/New_York:20191025T220000
DTSTAMP:20260424T043921
CREATED:20190628T151846Z
LAST-MODIFIED:20191003T173941Z
UID:209601-1572033600-1572040800@theriverboston.com
SUMMARY:Laura Cortese & the Dance Cards at The Music Hall Loft!
DESCRIPTION:Laura Cortese & the Dance Cards is a band who draws inspiration from diverse experiences\, communities\, and musical traditions\, melding them into a refined sound that’s broad-minded but clear-eyed. It’s not a string band\, not a string quartet\, not an a cappella group or indie band\, but somehow all of those at once\, all while staying firmly rooted in an identity as folk instrumentalists. It’s adventurous and complex music delivered with power and heart. \nPart of the Live at the Loft Series\, tickets go on sale July 6th!
URL:https://theriverboston.com/events/laura-cortese-the-dance-cards-at-the-music-hall-loft/
LOCATION:The Music Hall\, 28 Chestnut Street\, Portsmouth\, NH\, 03801\, United States
END:VEVENT
BEGIN:VEVENT
DTSTART;TZID=America/New_York:20191025T210000
DTEND;TZID=America/New_York:20191025T210000
DTSTAMP:20260424T043921
CREATED:20190509T183217Z
LAST-MODIFIED:20191023T171645Z
UID:209006-1572037200-1572037200@theriverboston.com
SUMMARY:The River Presents: Ruston Kelly!
DESCRIPTION:Ruston Kelly comes to Boston on the “Brightly Burst Tour” in support of his latest album Dying Star.\nDoors open at 8pm and the show is 18+ \nBefore you buy tickets\, enter to win a pair from us! Contest ends 10/21. \nFollow Ruston Kelly on Twitter and Instagram for more updates!
URL:https://theriverboston.com/events/ruston-kelly-at-brighton-music-hall/
LOCATION:Brighton Music Hall\, 158 Brighton Ave\, Allston\, MA\, 02134\, United States
END:VEVENT
END:VCALENDAR