BEGIN:VCALENDAR
VERSION:2.0
PRODID:-//92.5 the River - ECPv5.16.3.1//NONSGML v1.0//EN
CALSCALE:GREGORIAN
METHOD:PUBLISH
X-WR-CALNAME:92.5 the River
X-ORIGINAL-URL:https://theriverboston.com
X-WR-CALDESC:Events for 92.5 the River
BEGIN:VTIMEZONE
TZID:America/New_York
BEGIN:DAYLIGHT
TZOFFSETFROM:-0500
TZOFFSETTO:-0400
TZNAME:EDT
DTSTART:20190310T070000
END:DAYLIGHT
BEGIN:STANDARD
TZOFFSETFROM:-0400
TZOFFSETTO:-0500
TZNAME:EST
DTSTART:20191103T060000
END:STANDARD
END:VTIMEZONE
BEGIN:VEVENT
DTSTART;TZID=America/New_York:20191026T190000
DTEND;TZID=America/New_York:20191026T190000
DTSTAMP:20260424T031640
CREATED:20191007T183352Z
LAST-MODIFIED:20191007T183352Z
UID:210735-1572116400-1572116400@theriverboston.com
SUMMARY:Puddles Pity Party Comes To The Cabot!
DESCRIPTION:Quarterfinalist from Season 12 of America’s Got Talent comes to The Cabot!\nThe ‘Sad Clown with the Golden Voice’ is here with his heartfelt anthems and a suitcase full of Kleenex! This Pity Party is not all sadness and longing though\, Puddles Pity Party is peppered with a brilliant sense of the absurd\, mixing lots of humor with the awkward\, tender moments. \n“It seems like a parody. But when Puddles opens his mouth to sing\, it’s beautiful. Operatic.” – The Boston Globe \n“Fantastically brilliant…originality at its best.” – Simon Cowell \n“His special effect is a textured voice laced with melancholy…what makes him transcend the trope is his vulnerability.” – The New York Times
URL:https://theriverboston.com/events/puddles-pity-party-comes-to-the-cabot/
LOCATION:THE CABOT\, 286 Cabot Street\, Beverly\, MA\, 01915\, United States
END:VEVENT
BEGIN:VEVENT
DTSTART;TZID=America/New_York:20191026T193000
DTEND;TZID=America/New_York:20191026T193000
DTSTAMP:20260424T031640
CREATED:20190926T204146Z
LAST-MODIFIED:20190926T205049Z
UID:210598-1572118200-1572118200@theriverboston.com
SUMMARY:Tony Bennett at Lowell Memorial Auditorium!
DESCRIPTION:See Tony Bennett at the Lowell Memorial Auditorium!\nTony Bennett’s life and philosophy is the embodiment of the Great American Story. Having celebrated his 93rd birthday on August 3rd 2019\, his career as the pre-eminent singer of the 20th and 21st centuries is unprecedented. He continues to be embraced and loved by audiences of all generations.\nTony Bennett is one of only a handful of artists to have new albums charting in the 50’s\, 60’s\, 70’s\, 80’s and 90’s and 10’s. He introduced a multitude of songs into the great American Songbook that have since become pop music classics. \nThis show is brought to you by:
URL:https://theriverboston.com/events/tony-bennett-at-lowell-memorial-auditorium/
LOCATION:Lowell Memorial Auditorium\, 50 E. Merrimack Street\, Lowell\, MA\, 01852\, United States
ORGANIZER;CN="Spectacle%20Management":MAILTO:info@spectaclemanagement.net
END:VEVENT
BEGIN:VEVENT
DTSTART;TZID=America/New_York:20191026T200000
DTEND;TZID=America/New_York:20191026T220000
DTSTAMP:20260424T031640
CREATED:20190628T134440Z
LAST-MODIFIED:20191003T174057Z
UID:209593-1572120000-1572127200@theriverboston.com
SUMMARY:Preservation Hall Jazz Band at The Music Hall!
DESCRIPTION:A Tuba To Cuba is as much a soundtrack to the documentary as it is a collection of songs that Preservation Hall Jazz Band wrote and recorded during the filming and after its completion. The A Tuba To Cuba soundtrack is comprised of a combination of songs that are both in the movie and new songs that aren’t in the film or couldn’t have been in the film. \nThe show is part of the Intimately Yours series at the Music Hall. Tickets are on sale now – get them here!
URL:https://theriverboston.com/events/preservation-hall-jazz-band-at-the-music-hall/
LOCATION:The Music Hall\, 28 Chestnut Street\, Portsmouth\, NH\, 03801\, United States
END:VEVENT
END:VCALENDAR