BEGIN:VCALENDAR
VERSION:2.0
PRODID:-//92.5 the River - ECPv5.16.3.1//NONSGML v1.0//EN
CALSCALE:GREGORIAN
METHOD:PUBLISH
X-WR-CALNAME:92.5 the River
X-ORIGINAL-URL:https://theriverboston.com
X-WR-CALDESC:Events for 92.5 the River
BEGIN:VTIMEZONE
TZID:America/New_York
BEGIN:DAYLIGHT
TZOFFSETFROM:-0500
TZOFFSETTO:-0400
TZNAME:EDT
DTSTART:20190310T070000
END:DAYLIGHT
BEGIN:STANDARD
TZOFFSETFROM:-0400
TZOFFSETTO:-0500
TZNAME:EST
DTSTART:20191103T060000
END:STANDARD
END:VTIMEZONE
BEGIN:VEVENT
DTSTART;TZID=America/New_York:20191029T193000
DTEND;TZID=America/New_York:20191110T140000
DTSTAMP:20260423T213721
CREATED:20190516T164121Z
LAST-MODIFIED:20190516T164121Z
UID:209093-1572377400-1573394400@theriverboston.com
SUMMARY:The Bodyguard At The North Shore Music Theatre
DESCRIPTION:A musical based on the 1992 hit film featuring classic songs from Whitney Huston\, The Bodyguard is coming to the North Shore Music Theatre! Tickets are on sale now! Be sure to also follow North Shore Music Theatre on Instagram\, for more updates
URL:https://theriverboston.com/events/the-bodyguard-at-the-north-shore-music-theatre/
LOCATION:North Shore Music Theatre\, 62 Dunham Road\, Beverly\, MA\, 01915\, United States
END:VEVENT
BEGIN:VEVENT
DTSTART;TZID=America/New_York:20191030T160000
DTEND;TZID=America/New_York:20191030T180000
DTSTAMP:20260423T213721
CREATED:20191029T183335Z
LAST-MODIFIED:20191029T183416Z
UID:210935-1572451200-1572458400@theriverboston.com
SUMMARY:The River Roadies At Planet Fitness!
DESCRIPTION:Visit the River Roadies at the Planet Fitness Gran Opening!\nJoin us at the Grand Opening of the Planet Fitness in Haverhill! We’ll be playing music and giving away prizes including tickets to The Lumineers at the Bank of NH Pavillion and Xfinity Center! Planet Fitness will also be giving away two Black Card memberships\, a  Planet Fitness corn hole set\, and an Apple Watch!
URL:https://theriverboston.com/events/the-river-roadies-at-planet-fitness/
LOCATION:Planet Fitness Haverhill\, 371 Lowell Ave\, Haverhill\, MA\, 01832\, United States
END:VEVENT
BEGIN:VEVENT
DTSTART;TZID=America/New_York:20191030T190000
DTEND;TZID=America/New_York:20191030T230000
DTSTAMP:20260423T213721
CREATED:20190722T165644Z
LAST-MODIFIED:20190926T174000Z
UID:209926-1572462000-1572476400@theriverboston.com
SUMMARY:King Princess Is Coming To The House Of Blues
DESCRIPTION:King Princess has released her debut album: Cheap Queen! The tour supporting the album’s release is coming to the House of Blues Wednesday\, October 30th! Get tickets now! \nDoors open at 7PM and the show starts at 8PM
URL:https://theriverboston.com/events/king-princess-is-coming-to-the-house-of-blues/
LOCATION:House of Blues Boston\, 15 Landsdowne Street\, Boston\, MA\, 02215\, United States
END:VEVENT
END:VCALENDAR