BEGIN:VCALENDAR
VERSION:2.0
PRODID:-//92.5 the River - ECPv5.16.3.1//NONSGML v1.0//EN
CALSCALE:GREGORIAN
METHOD:PUBLISH
X-WR-CALNAME:92.5 the River
X-ORIGINAL-URL:https://theriverboston.com
X-WR-CALDESC:Events for 92.5 the River
BEGIN:VTIMEZONE
TZID:America/New_York
BEGIN:DAYLIGHT
TZOFFSETFROM:-0500
TZOFFSETTO:-0400
TZNAME:EDT
DTSTART:20190310T070000
END:DAYLIGHT
BEGIN:STANDARD
TZOFFSETFROM:-0400
TZOFFSETTO:-0500
TZNAME:EST
DTSTART:20191103T060000
END:STANDARD
END:VTIMEZONE
BEGIN:VEVENT
DTSTART;TZID=America/New_York:20191029T193000
DTEND;TZID=America/New_York:20191110T140000
DTSTAMP:20260423T184723
CREATED:20190516T164121Z
LAST-MODIFIED:20190516T164121Z
UID:209093-1572377400-1573394400@theriverboston.com
SUMMARY:The Bodyguard At The North Shore Music Theatre
DESCRIPTION:A musical based on the 1992 hit film featuring classic songs from Whitney Huston\, The Bodyguard is coming to the North Shore Music Theatre! Tickets are on sale now! Be sure to also follow North Shore Music Theatre on Instagram\, for more updates
URL:https://theriverboston.com/events/the-bodyguard-at-the-north-shore-music-theatre/
LOCATION:North Shore Music Theatre\, 62 Dunham Road\, Beverly\, MA\, 01915\, United States
END:VEVENT
BEGIN:VEVENT
DTSTART;VALUE=DATE:20191101
DTEND;VALUE=DATE:20191102
DTSTAMP:20260423T184723
CREATED:20191002T202702Z
LAST-MODIFIED:20191003T174253Z
UID:210692-1572566400-1572652799@theriverboston.com
SUMMARY:New Hampshire Craft Brew Conference
DESCRIPTION:Where better to join fellow craft brewing entrepreneurs\, brewing experts\, craft brewing vendors\, advanced hobbyists\, and brewmasters than in New Hampshire: central to all that the craft brewing renaissance has to offer in New England and the East Coast.\nThe third annual New Hampshire Craft Brew Conference brings together individuals seeking to learn\, develop and explore their passion for craft beer. With 15 sessions and workshops to choose from\, there is sure to be something for everyone: brewers\, advanced hobbyists\, brewing entrepreneurs\, brewery owners\, taproom staff and craft-centric business owners.\nNHCBC offers a full-day of unique opportunities. Network with a wide array of industry partners\, participate in breakout educational sessions\, and one-on-one discussions as well as partake in our vendor tradeshow and exhibition.\nThe conference will feature three tracks centered around the technical aspects of brewing\, business operations\, as well as sales and marketing.\nIn addition\, attendees will enjoy a continental breakfast\, luncheon\, light refreshments throughout the event and a “Hoppy” Hour celebration with several NH beers on tap (21+plus**) to round out the conference. For more info contact CJ White\, Executive Director or visit their website.
URL:https://theriverboston.com/events/new-hampshire-craft-brew-conference/
LOCATION:Backyard Brewery\, 1211 South Mammoth Rd\, Manchester\, NH\, 03109\, United States
ORGANIZER;CN="New%20Hampshire%20Craft%20Brewers%20Association":MAILTO:cjwhite@nhbrewers.org
END:VEVENT
BEGIN:VEVENT
DTSTART;TZID=America/New_York:20191101T130000
DTEND;TZID=America/New_York:20191101T130000
DTSTAMP:20260423T184723
CREATED:20191017T175740Z
LAST-MODIFIED:20191017T175826Z
UID:210848-1572613200-1572613200@theriverboston.com
SUMMARY:J.S. Ondara at The River Music Hall!
DESCRIPTION:J.S. Ondara is coming to the legendary River Music Hall!\nKenyan singer/songwriter J.S. Ondara will be performing at the River Music Hall Friday\, November 1st! His debut album\, Tales Of America\, was released earlier this year and is\, as Rolling Stone puts it\, a “compelling outsider’s perspective on what it means to be a young adult in 21st-century America.” From Kenya to L.A.\, Ondara’s story is one driven entirely by a passion for music. \nEnter to win a chance to see J.S. Ondara in an intimate performance here at the River Music Hall! Contest open through 10/25.
URL:https://theriverboston.com/events/j-s-ondara-at-the-river-music-hall/
LOCATION:River Music Hall\, 30 How Street\, Haverhill\, 01830\, United States
END:VEVENT
BEGIN:VEVENT
DTSTART;TZID=America/New_York:20191101T200000
DTEND;TZID=America/New_York:20191101T200000
DTSTAMP:20260423T184723
CREATED:20190611T162949Z
LAST-MODIFIED:20191003T174431Z
UID:209350-1572638400-1572638400@theriverboston.com
SUMMARY:Liz Frame and The Kickers at The Music Hall Loft!
DESCRIPTION:As part of the Live at the Loft music series\, Liz Frame and the Kickers will take the stage on Friday\, November 1 at 8:00 PM! Their music is unbridled and honest\, influenced by legends including Elvis Presley\, The Weavers\, and B.B. King. Frame is a front woman who possesses cool confidence and an ideal blend of soul\, sophistication\, and sensuality! Ticket information available.
URL:https://theriverboston.com/events/liz-frame-and-the-kickers-at-the-music-hall-loft/
LOCATION:The Music Hall\, 28 Chestnut Street\, Portsmouth\, NH\, 03801\, United States
END:VEVENT
END:VCALENDAR