BEGIN:VCALENDAR
VERSION:2.0
PRODID:-//92.5 the River - ECPv5.16.3.1//NONSGML v1.0//EN
CALSCALE:GREGORIAN
METHOD:PUBLISH
X-WR-CALNAME:92.5 the River
X-ORIGINAL-URL:https://theriverboston.com
X-WR-CALDESC:Events for 92.5 the River
BEGIN:VTIMEZONE
TZID:America/New_York
BEGIN:DAYLIGHT
TZOFFSETFROM:-0500
TZOFFSETTO:-0400
TZNAME:EDT
DTSTART:20190310T070000
END:DAYLIGHT
BEGIN:STANDARD
TZOFFSETFROM:-0400
TZOFFSETTO:-0500
TZNAME:EST
DTSTART:20191103T060000
END:STANDARD
END:VTIMEZONE
BEGIN:VEVENT
DTSTART;VALUE=DATE:20191123
DTEND;VALUE=DATE:20191124
DTSTAMP:20260424T131939
CREATED:20191119T215859Z
LAST-MODIFIED:20191119T215859Z
UID:211157-1574467200-1574553599@theriverboston.com
SUMMARY:Start of The Sea Festival of Trees @ Blue Ocean Event Center
DESCRIPTION:Win a 4-pack of passes to the 15-day Sea Festival of Trees\, a wonderland by the sea\, located at Blue Ocean Event Center on Salisbury Beach. Enjoy a giant maze of sparkling holiday trees\, holiday stage performances\, seaside faux ice rink and skate rentals\, visits with Santa and other fun characters\, a giant hand-built gingerbread house\, Festival Cafe and more! All the trees are themed and stocked with fun prizes\, they will be raffled off to lucky winners! Proceeds benefit Salisbury Beach Partnership and the fund to bring back the historic carousel.
URL:https://theriverboston.com/events/start-of-the-sea-festival-of-trees-blue-ocean-event-center/
LOCATION:Blue Ocean Event Center\, 4 Oceanfront North\, Salisbury\, MA\, United States
END:VEVENT
BEGIN:VEVENT
DTSTART;TZID=America/New_York:20191123T190000
DTEND;TZID=America/New_York:20191123T230000
DTSTAMP:20260424T131939
CREATED:20191112T192107Z
LAST-MODIFIED:20191112T192147Z
UID:211052-1574535600-1574550000@theriverboston.com
SUMMARY:Letters to Cleo at Paradise Rock Club!
DESCRIPTION:Reunited and it feels so good! Come enjoy this Boston based alternative rock band for their 2019 tour\, best known for their 1994 single\, “Here & Now”\, from their full length debut album Aurora Glory Alice. Get tickets now or Enter to win tickets now through Sunday 11/17!
URL:https://theriverboston.com/events/letters-to-cleo-at-paradise-rock-club-2/
LOCATION:Paradise Rock Club\, 967 Commonwealth Ave\, Boston\, MA\, 02215\, United States
END:VEVENT
END:VCALENDAR