BEGIN:VCALENDAR
VERSION:2.0
PRODID:-//92.5 the River - ECPv5.16.3.1//NONSGML v1.0//EN
CALSCALE:GREGORIAN
METHOD:PUBLISH
X-WR-CALNAME:92.5 the River
X-ORIGINAL-URL:https://theriverboston.com
X-WR-CALDESC:Events for 92.5 the River
BEGIN:VTIMEZONE
TZID:America/New_York
BEGIN:DAYLIGHT
TZOFFSETFROM:-0500
TZOFFSETTO:-0400
TZNAME:EDT
DTSTART:20190310T070000
END:DAYLIGHT
BEGIN:STANDARD
TZOFFSETFROM:-0400
TZOFFSETTO:-0500
TZNAME:EST
DTSTART:20191103T060000
END:STANDARD
END:VTIMEZONE
BEGIN:VEVENT
DTSTART;TZID=America/New_York:20191129T193000
DTEND;TZID=America/New_York:20191129T193000
DTSTAMP:20260424T030435
CREATED:20190816T141618Z
LAST-MODIFIED:20191119T175607Z
UID:210208-1575055800-1575055800@theriverboston.com
SUMMARY:Phish @ Dunkin' Donuts Center!
DESCRIPTION:Phish is coming to the Dunkin’ Donuts Center November 29th & 30th!\nGet tickets to see one of the worlds grooviest bands\, Phish! You can enter to win tickets before they go on sale 8/23 at 10AM. Contest ends 8/23 at 12AM.
URL:https://theriverboston.com/events/phish-dunkin-donuts-center/
LOCATION:Dunkin’ Donuts Center\, 1 La Salle Square\, Providence\, RI\, 02903\, United States
END:VEVENT
BEGIN:VEVENT
DTSTART;TZID=America/New_York:20191129T200000
DTEND;TZID=America/New_York:20191129T230000
DTSTAMP:20260424T030435
CREATED:20191113T213758Z
LAST-MODIFIED:20191113T213758Z
UID:211098-1575057600-1575068400@theriverboston.com
SUMMARY:Joan Osborne's Dylanology @ The Cabot
DESCRIPTION:Featuring Special Guests JACKIE GREENE and ANDERS OSBORNE \nJoan Osborne has rightfully earned a reputation as one of the great voices of her generation — both a commanding\, passionate performer and a frank\, emotionally evocative songwriter. A multi-platinum selling recording artist and seven-time Grammy nominee\, the soulful vocalist is a highly sought-after collaborator and guest performer who has performed alongside many notable artists\, including Stevie Wonder\, Bob Dylan\, Luciano Pavarotti\, Emmylou Harris\, Taj Mahal\, and Mavis Staples\, to name a few. Tickets on sale!
URL:https://theriverboston.com/events/joan-osbornes-dylanology-the-cabot/
LOCATION:THE CABOT\, 286 Cabot Street\, Beverly\, MA\, 01915\, United States
END:VEVENT
END:VCALENDAR