BEGIN:VCALENDAR
VERSION:2.0
PRODID:-//92.5 the River - ECPv5.16.3.1//NONSGML v1.0//EN
CALSCALE:GREGORIAN
METHOD:PUBLISH
X-WR-CALNAME:92.5 the River
X-ORIGINAL-URL:https://theriverboston.com
X-WR-CALDESC:Events for 92.5 the River
BEGIN:VTIMEZONE
TZID:America/New_York
BEGIN:DAYLIGHT
TZOFFSETFROM:-0500
TZOFFSETTO:-0400
TZNAME:EDT
DTSTART:20190310T070000
END:DAYLIGHT
BEGIN:STANDARD
TZOFFSETFROM:-0400
TZOFFSETTO:-0500
TZNAME:EST
DTSTART:20191103T060000
END:STANDARD
END:VTIMEZONE
BEGIN:VEVENT
DTSTART;TZID=America/New_York:20191206T180000
DTEND;TZID=America/New_York:20191207T000000
DTSTAMP:20260423T171825
CREATED:20190819T172650Z
LAST-MODIFIED:20190926T175957Z
UID:210270-1575655200-1575676800@theriverboston.com
SUMMARY:Caamp at The Royale
DESCRIPTION:Caamp is coming to The Royale for two shows on December 6th and December 7th\, 2019 in support of their latest album\, By & By. Get your tickets now!
URL:https://theriverboston.com/events/caamp-at-the-royale/
LOCATION:Royale Boston\, 279 Tremont St\, Boston\, MA\, 02116\, United States
END:VEVENT
BEGIN:VEVENT
DTSTART;TZID=America/New_York:20191206T193000
DTEND;TZID=America/New_York:20191222T140000
DTSTAMP:20260423T171825
CREATED:20190516T165215Z
LAST-MODIFIED:20190516T165215Z
UID:209102-1575660600-1577023200@theriverboston.com
SUMMARY:A Christmas Carol At The North Shore Music Theatre
DESCRIPTION:A Christmas classic\, the award-winning production of A Christmas Carol is coming back to the North Shore Music Theatre! Tickets are on sale now! Be sure to also follow North Shore Music Theatre on Instagram\, for more updates.
URL:https://theriverboston.com/events/a-christmas-carol-at-the-north-shore-music-theatre/
LOCATION:North Shore Music Theatre\, 62 Dunham Road\, Beverly\, MA\, 01915\, United States
END:VEVENT
BEGIN:VEVENT
DTSTART;TZID=America/New_York:20191207T130000
DTEND;TZID=America/New_York:20191207T210000
DTSTAMP:20260423T171825
CREATED:20190819T173205Z
LAST-MODIFIED:20191105T200246Z
UID:210265-1575723600-1575752400@theriverboston.com
SUMMARY:A Charlie Brown Xmas in Lowell
DESCRIPTION:Charlie Brown Christmas Live On Stage is coming to Lowell!\nCome see Charlie Brown\, Snoopy\, and the Peanuts gang in their Christmas play where they learn the true meaning of the holiday. With the unforgettable music of Vince Guaraldi\, Charlie Brown Christmas Live On Stage is an event the whole family will love! \nEnter To Win Now Through 11/10 On Our Tickets & Exclusive Offers Page! \n Buy tickets for the 1p-3p show \nBuy tickets for the 4p-6p show \nBuy tickets for the 7p-9p show \nPresented by:
URL:https://theriverboston.com/events/a-charlie-brown-xmas-in-lowell/
LOCATION:Lowell Memorial Auditorium\, 50 E. Merrimack Street\, Lowell\, MA\, 01852\, United States
ORGANIZER;CN="Spectacle%20Management":MAILTO:info@spectaclemanagement.net
END:VEVENT
BEGIN:VEVENT
DTSTART;TZID=America/New_York:20191207T140000
DTEND;TZID=America/New_York:20191207T160000
DTSTAMP:20260423T171825
CREATED:20191204T220349Z
LAST-MODIFIED:20191204T220349Z
UID:211295-1575727200-1575734400@theriverboston.com
SUMMARY:Pet Pictures With Santa at Lockridge Animal Hospital
DESCRIPTION:Pet Pictures with Santa!\nJoin us at Lockridge Animal Hospital for Pet Pictures with Santa on Saturday\, December 7th from 2pm-4pm! Come have your picture taken with the BEST Santa in town! They’re taking $10 donations to benefit Peace and Paws Dog Rescue. We hope to see you there!
URL:https://theriverboston.com/events/pet-pictures-with-santa-at-lockridge-animal-hospital/
LOCATION:Lockridge Animal Hospital\, 1153 Hanover St\, Manchester\, NH\, 03104\, United States
END:VEVENT
BEGIN:VEVENT
DTSTART;TZID=America/New_York:20191207T170000
DTEND;TZID=America/New_York:20191207T190000
DTSTAMP:20260423T171825
CREATED:20191204T150932Z
LAST-MODIFIED:20191205T171306Z
UID:211286-1575738000-1575745200@theriverboston.com
SUMMARY:Methuen Tree Lighting At The Loop!
DESCRIPTION:Join the River Roadies Saturday\, December 7th as we help kick off the holiday season in Methuen! We’ll be providing tunes from 5-7 P.M. \nTheir Christmas tree lighting festivities are beginning at 4 P.M. when Santa arrives by fire truck and run through 9:00 P.M.! Take a picture with the man himself\, catch a ride on a horse drawn carriage\, sing along with carolers\, and decorate holiday desserts! Plus\, you can enter to win a pair of tickets to see James Taylor perform at Fenway Park next summer with special guest Brandi Carlile! \nHappy Holidays from the River\, and we’ll see you there! \nEvent Map.
URL:https://theriverboston.com/events/methuen-tree-lighting-at-the-loop/
LOCATION:The Loop\, 90 Pleasant Valley Street\, Methuen\, MA\, 01844\, United States
END:VEVENT
BEGIN:VEVENT
DTSTART;TZID=America/New_York:20191207T193000
DTEND;TZID=America/New_York:20191207T193000
DTSTAMP:20260423T171825
CREATED:20190924T202058Z
LAST-MODIFIED:20191003T175741Z
UID:210575-1575747000-1575747000@theriverboston.com
SUMMARY:Tedeschi Trucks Band at Orpheum Theatre!
DESCRIPTION:See Tedeschi Trucks Band at Orpheum Theatre!\nJust Announced – Tedeschi Trucks Band are coming to the Orpheum Theatre for three nights! Get your tickets now!
URL:https://theriverboston.com/events/tedeschi-trucks-band-at-orpheum-theatre-2/
LOCATION:Orpheum Theatre\, 1 Hamilton Place\, Boston\, MA\, 02108\, United States
END:VEVENT
END:VCALENDAR