BEGIN:VCALENDAR
VERSION:2.0
PRODID:-//92.5 the River - ECPv5.16.3.1//NONSGML v1.0//EN
CALSCALE:GREGORIAN
METHOD:PUBLISH
X-WR-CALNAME:92.5 the River
X-ORIGINAL-URL:https://theriverboston.com
X-WR-CALDESC:Events for 92.5 the River
BEGIN:VTIMEZONE
TZID:America/New_York
BEGIN:DAYLIGHT
TZOFFSETFROM:-0500
TZOFFSETTO:-0400
TZNAME:EDT
DTSTART:20200308T070000
END:DAYLIGHT
BEGIN:STANDARD
TZOFFSETFROM:-0400
TZOFFSETTO:-0500
TZNAME:EST
DTSTART:20201101T060000
END:STANDARD
END:VTIMEZONE
BEGIN:VEVENT
DTSTART;VALUE=DATE:20200125
DTEND;VALUE=DATE:20200126
DTSTAMP:20260424T202208
CREATED:20200115T194642Z
LAST-MODIFIED:20200120T190410Z
UID:211536-1579910400-1579996799@theriverboston.com
SUMMARY:Ride & Ski Waterville Valley With The River!
DESCRIPTION:Listeners can take advantage of huge discounts and loads of fun-filled apres-ski parties at some of New England’s best ski resorts all season long! Join the River and the Ride and Ski Card New England on Saturday\, January 25th  at Waterville Valley! \nWaterville Valley is New Hampshire’s family resort! It boasts over six feet of snow\, and this weekend is sure to be the best yet! Enjoy tons of events and winter activities including the apres-ski party\, tubing\, snowshoeing\, and more! Plus\, at Waterville Valley Resort you can take advantage of half-priced lift tickets with a Ride and Ski Card on January 25th! Plus\, a portion of the proceeds from each Ride and Ski Card goes to the Children’s Hospital at Dartmouth. \nThen join the Ride and Ski Card team for another fun-filled Harpoon apres-ski party in T-Bars Beginning at 3 PM! They’ll be giving away of $3\,000 in prizes! Find more details at the Ride and Ski website! \nSee you on the slopes Saturday\, January 25th at Waterville Valley!
URL:https://theriverboston.com/events/ride-ski-waterville-valley-with-the-river/
LOCATION:Waterville Valley Mountain Resort\, 1 Ski Area Rd\, Waterville Valley\, NH\, 03215\, United States
ORGANIZER;CN="Ride%20And%20Ski%20Card":MAILTO:rideandskine@comcast.net
END:VEVENT
END:VCALENDAR