BEGIN:VCALENDAR
VERSION:2.0
PRODID:-//92.5 the River - ECPv5.16.3.1//NONSGML v1.0//EN
CALSCALE:GREGORIAN
METHOD:PUBLISH
X-WR-CALNAME:92.5 the River
X-ORIGINAL-URL:https://theriverboston.com
X-WR-CALDESC:Events for 92.5 the River
BEGIN:VTIMEZONE
TZID:America/New_York
BEGIN:DAYLIGHT
TZOFFSETFROM:-0500
TZOFFSETTO:-0400
TZNAME:EDT
DTSTART:20200308T070000
END:DAYLIGHT
BEGIN:STANDARD
TZOFFSETFROM:-0400
TZOFFSETTO:-0500
TZNAME:EST
DTSTART:20201101T060000
END:STANDARD
END:VTIMEZONE
BEGIN:VEVENT
DTSTART;VALUE=DATE:20200131
DTEND;VALUE=DATE:20200224
DTSTAMP:20260424T073341
CREATED:20190624T131639Z
LAST-MODIFIED:20190624T131639Z
UID:209491-1580428800-1582502399@theriverboston.com
SUMMARY:Sweat at the Huntington Theatre Company!
DESCRIPTION:Based on interviews with the residents of Reading\, Pennsylvania\, a group of close friends struggle to stay connected when their factory is at risk of collapse. In a neighborhood bar\, each of them reaches for their piece of the American dream. Can their friendships survive this test? Nottage weaves a tale of trust and doubt\, longtime bonds and short-term possibilities. \nSweat will run January 31-February 23 2020 at the Huntington Theatre Company! \nTickets can be found here.
URL:https://theriverboston.com/events/sweat-at-the-huntington-theatre-company/
LOCATION:Huntington Theatre Company\, 264 Huntington Avenue\, Boston\, MA\, 02115\, United States
END:VEVENT
BEGIN:VEVENT
DTSTART;TZID=America/New_York:20200203T193000
DTEND;TZID=America/New_York:20200203T193000
DTSTAMP:20260424T073341
CREATED:20191212T205730Z
LAST-MODIFIED:20191212T205730Z
UID:211351-1580758200-1580758200@theriverboston.com
SUMMARY:Citizen Cope at The Music Hall
DESCRIPTION:See Citizen Cope at The Music Hall!\nCitizen Cope is coming to The Music Hall for their Intimately Yours Series that features talented musicians from legends to alt rock stars in an intimate performance. \nThe success of Cope’s music has always been a slow burn\, rather than a flash in the pan. His single “Let The Drummer Kick” eventually went Platinum without any support from commercial radio. The Washington Post has hailed him as “DC’s finest export since Marvin Gaye\,” while Rolling Stone raved that his “uncommon chords and harmonies combine delicate dissonance with unexpected flashes of beauty.”
URL:https://theriverboston.com/events/citizen-cope-at-the-music-hall/
LOCATION:The Music Hall\, 28 Chestnut Street\, Portsmouth\, NH\, 03801\, United States
END:VEVENT
END:VCALENDAR