BEGIN:VCALENDAR
VERSION:2.0
PRODID:-//92.5 the River - ECPv5.16.3.1//NONSGML v1.0//EN
CALSCALE:GREGORIAN
METHOD:PUBLISH
X-WR-CALNAME:92.5 the River
X-ORIGINAL-URL:https://theriverboston.com
X-WR-CALDESC:Events for 92.5 the River
BEGIN:VTIMEZONE
TZID:America/New_York
BEGIN:DAYLIGHT
TZOFFSETFROM:-0500
TZOFFSETTO:-0400
TZNAME:EDT
DTSTART:20200308T070000
END:DAYLIGHT
BEGIN:STANDARD
TZOFFSETFROM:-0400
TZOFFSETTO:-0500
TZNAME:EST
DTSTART:20201101T060000
END:STANDARD
END:VTIMEZONE
BEGIN:VEVENT
DTSTART;VALUE=DATE:20200320
DTEND;VALUE=DATE:20200420
DTSTAMP:20260423T155421
CREATED:20190624T132251Z
LAST-MODIFIED:20200325T192907Z
UID:209492-1584662400-1587340799@theriverboston.com
SUMMARY:CANCELED: Our Daughters\, Like Pillars at the Huntington Theatre Company
DESCRIPTION:Our Daughters\, Like Pillars at the Huntington Theatre Company has been cancelled.\nUnfortunately\, this play is cancelled due to the coronavirus pandemic. The Huntington Theatre is committed to getting this important world premiere play performed soon in a future Huntington season.
URL:https://theriverboston.com/events/our-daughters-like-pillars-at-the-huntington-theatre-company/
LOCATION:Huntington Theatre Company\, 264 Huntington Avenue\, Boston\, MA\, 02115\, United States
END:VEVENT
BEGIN:VEVENT
DTSTART;TZID=America/New_York:20200413T190000
DTEND;TZID=America/New_York:20200413T190000
DTSTAMP:20260423T155421
CREATED:20191212T210942Z
LAST-MODIFIED:20200325T194429Z
UID:211360-1586804400-1586804400@theriverboston.com
SUMMARY:POSTPONED: Lake Street Dive at The Music Hall
DESCRIPTION:Lake Street Dive’s show at The Music Hall for their Intimately Yours Series has been rescheduled for a new date. Click here for more information and a message from the band themselves. \nOriginally formed in 2004 at the New England Conservatory of Music in Boston\, Lake Street Dive has cultivated a unique\, infectious blend of soul\, R&B\, and rock & roll that is timeless yet immediate\, exuberant yet reflective. Now they come to the Historic Theater for an easy-going\, semi-acoustic fireside evening performance. Come as you are and sing along as the band performs a revue of their 16-year catalog of songs. Deep cuts\, works in progress\, and fan favorites\, all sung around a grand piano. Silk pajamas encouraged!
URL:https://theriverboston.com/events/lake-street-dive-at-the-music-hall/
LOCATION:The Music Hall\, 28 Chestnut Street\, Portsmouth\, NH\, 03801\, United States
END:VEVENT
END:VCALENDAR