BEGIN:VCALENDAR
VERSION:2.0
PRODID:-//92.5 the River - ECPv5.16.3.1//NONSGML v1.0//EN
CALSCALE:GREGORIAN
METHOD:PUBLISH
X-WR-CALNAME:92.5 the River
X-ORIGINAL-URL:https://theriverboston.com
X-WR-CALDESC:Events for 92.5 the River
BEGIN:VTIMEZONE
TZID:America/New_York
BEGIN:DAYLIGHT
TZOFFSETFROM:-0500
TZOFFSETTO:-0400
TZNAME:EDT
DTSTART:20200308T070000
END:DAYLIGHT
BEGIN:STANDARD
TZOFFSETFROM:-0400
TZOFFSETTO:-0500
TZNAME:EST
DTSTART:20201101T060000
END:STANDARD
END:VTIMEZONE
BEGIN:VEVENT
DTSTART;VALUE=DATE:20200424
DTEND;VALUE=DATE:20200525
DTSTAMP:20260423T225111
CREATED:20190624T132822Z
LAST-MODIFIED:20200325T200100Z
UID:209493-1587686400-1590364799@theriverboston.com
SUMMARY:POSTPONED: Toni Morrison's The Bluest Eye at the Huntington Theatre Company
DESCRIPTION:Toni Morrison’s The Bluest Eye at the Huntington Theatre Company has been postponed to a later date due to the COVID-19 pandemic.\nTicket-holders are encouraged to hold on to their tickets until new dates are announced. For more information and updates\, click here. \nThe Bluest Eye tells the story of Pecola\, a young black girl who believes everything in her world would be made wonderful if only she had blue eyes. Enthralling\, gorgeously written\, and incredibly emotional\, The Bluest Eye asks powerful questions concerning racism\, beauty\, and identity with stunning grace and subtlety.
URL:https://theriverboston.com/events/toni-morrisons-the-bluest-eye-at-the-huntington-theatre-company/
LOCATION:Huntington Theatre Company\, 264 Huntington Avenue\, Boston\, MA\, 02115\, United States
END:VEVENT
BEGIN:VEVENT
DTSTART;TZID=America/New_York:20200424T180000
DTEND;TZID=America/New_York:20200424T220000
DTSTAMP:20260423T225111
CREATED:20200206T171919Z
LAST-MODIFIED:20200206T171919Z
UID:211757-1587751200-1587765600@theriverboston.com
SUMMARY:"Metropolis" Screening & Roaring 20s Party: Celebrate 100 Years of The Cabot!
DESCRIPTION:  \nThe Cabot Theatre in Beverly is turning 100\, and you’re invited to the celebration! It may be 2020\, but it’s time to turn back the clocks to 1920 with a night of classic entertainment! That’s right – be sure to dust off your bow tie and break out your dangly earrings\, because the theme is “Roaring 20s!” \nThe fun starts at 6PM in the Cabot Streetside Bar for a speakeasy-themed VIP reception. The celebration moves inside when the doors open at 6:30. Finally\, the main event begins at 7:30 – an exclusive screening of Fritz Lang’s 1927 sci-fi masterpiece\, “Metropolis”\, accompanied by an original score by Alloy Orchestra! \nThis event is possible due to the amazing fundraising efforts of The Cabot\, who raised over $1M in 2019 to make a series of renovations to the historic venue! \nTickets are on sale now! You won’t get another opportunity to see this film quite like this\, so don’t miss your chance!
URL:https://theriverboston.com/events/metropolis-screening-roaring-20s-party-celebrate-100-years-of-the-cabot/
LOCATION:THE CABOT\, 286 Cabot Street\, Beverly\, MA\, 01915\, United States
END:VEVENT
END:VCALENDAR