BEGIN:VCALENDAR
VERSION:2.0
PRODID:-//92.5 the River - ECPv5.16.3.1//NONSGML v1.0//EN
CALSCALE:GREGORIAN
METHOD:PUBLISH
X-WR-CALNAME:92.5 the River
X-ORIGINAL-URL:https://theriverboston.com
X-WR-CALDESC:Events for 92.5 the River
BEGIN:VTIMEZONE
TZID:America/New_York
BEGIN:DAYLIGHT
TZOFFSETFROM:-0500
TZOFFSETTO:-0400
TZNAME:EDT
DTSTART:20210314T070000
END:DAYLIGHT
BEGIN:STANDARD
TZOFFSETFROM:-0400
TZOFFSETTO:-0500
TZNAME:EST
DTSTART:20211107T060000
END:STANDARD
END:VTIMEZONE
BEGIN:VEVENT
DTSTART;TZID=America/New_York:20210925T120000
DTEND;TZID=America/New_York:20210925T203000
DTSTAMP:20260422T145256
CREATED:20210830T142536Z
LAST-MODIFIED:20210922T192734Z
UID:214484-1632571200-1632601800@theriverboston.com
SUMMARY:River Ruckus Festival
DESCRIPTION:The 10th Annual River Ruckus!\n\nTeam Haverhill’s River Ruckus is an annual festival featuring live music\, Classic Cars\, a Kids Zone\, great local foods\, and spectacular fireworks over the Merrimack River\nLive Music Lineup: \n\nBuffalo Tom | 6:30-8 PM\nThe Unlikely Candidates | 4:45-5:45 PM\nTall Heights | 3:15-4:15 PM\nJames Renner | 1:45-2:45 PM\nRed Tail Hawk | 12:30-1:15 PM\nHaverhill High School Chorus | 12-12:15 PM\n\nMore fun at the festival: \n\nClassic Car Show | Noon-3 PM\nKids Zone | Noon-4 PM\nBeer and Wine Garden | Noon-8 PM\nFireworks Spectacular | 8-8:30 PM\n\nLearn how to volunteer\, read more about the history of River Ruckus\, and view sponsor and additional event info \nRSVP on Facebook! \n  \n\n 
URL:https://theriverboston.com/events/river-ruckus-festival/
LOCATION:Haverhill’s Riverfront Cultural District  and Washington Street\, Washington St\, Haverhill\, MA\, 01832
END:VEVENT
BEGIN:VEVENT
DTSTART;TZID=America/New_York:20210925T130000
DTEND;TZID=America/New_York:20210925T130000
DTSTAMP:20260422T145256
CREATED:20210817T190943Z
LAST-MODIFIED:20210817T191108Z
UID:214366-1632574800-1632574800@theriverboston.com
SUMMARY:Live Music: Gratitude Music Festival
DESCRIPTION:Help The Music Hall in Portsmouth thank and honor our community’s first responders and frontline essential workers!\nBuy day passes here \nSchedule:\n\nNeighbor • 1pm • Chestnut Street\nCarsie Blanton • 3:30pm • Portwalk Place\nAnderson East • 8pm • Historic Theater\n\n  \nNominate A Frontline Hero:\n\nNominate your favorite frontline hero to win a free pair of passes to the Festival\n6 deserving nominees will receive free passes for themselves and a guest.\nRecipients will be chosen randomly and announced by Gratitude Music Festival artists themselves
URL:https://theriverboston.com/events/live-music-gratitude-music-festival/
LOCATION:Music Hall in Portsmouth\, 28 Chestnut Street\, Portsmouth\, NH\, 03801\, United States
END:VEVENT
BEGIN:VEVENT
DTSTART;TZID=America/New_York:20210925T170000
DTEND;TZID=America/New_York:20210925T170000
DTSTAMP:20260422T145256
CREATED:20210826T144647Z
LAST-MODIFIED:20210826T144647Z
UID:214479-1632589200-1632589200@theriverboston.com
SUMMARY:Pink Talking Fish’s “GOLF BALL” feat. Eggy\, Bearly Dead & Arukah @ The Range
DESCRIPTION:Don’t miss Pink Talking Fish’s “GOLF BALL” also featuring Eggy\, Bearly Dead & Arukah at The Range: September 25\nDoors: 5 PM\n \nA fusion of Pink Floyd\, The Talking Heads\, and Phish… What could be better?  \nMusic starts at 5PM on Saturday\, September 25th and is continuous on 2 stages throughout the evening. Tickets ON SALE NOW for what is sure to be an awesome night of live music\, dancing and lights!  \nCLICK HERE for tickets and more information about the show.
URL:https://theriverboston.com/events/pink-talking-fishs-golf-ball-feat-eggy-bearly-dead-arukah-the-range/
LOCATION:The Range\, 96 Old Turnpike Road\, Mason\, NH\, 03048\, United States
END:VEVENT
BEGIN:VEVENT
DTSTART;TZID=America/New_York:20210925T193000
DTEND;TZID=America/New_York:20210925T193000
DTSTAMP:20260422T145256
CREATED:20210909T134536Z
LAST-MODIFIED:20210909T134536Z
UID:214552-1632598200-1632598200@theriverboston.com
SUMMARY:Live music: Livingston Taylor w/Kemp Harris
DESCRIPTION:Livingston Taylor\nw/Kemp Harris\nBUY TICKETS \nDon’t miss out on your chance to see Livingston Taylor at the Rex Theatre in Manchester NH on September 25th! Livingston Taylor picked up his first guitar at the age of 13\, which began a 50-year career that has encompassed performance\, songwriting\, and teaching.. Livingston recorded his first record at the age of 18 and has continued to create well crafted\, introspective\, and original songs that have earned him listeners worldwide. READ MORE 
URL:https://theriverboston.com/events/live-music-livingston-taylor-w-kemp-harris/
LOCATION:The Rex Theatre\, 23 Amherst St\, Manchester\, NH\, 03101\, United States
END:VEVENT
END:VCALENDAR