BEGIN:VCALENDAR
VERSION:2.0
PRODID:-//92.5 the River - ECPv5.16.3.1//NONSGML v1.0//EN
CALSCALE:GREGORIAN
METHOD:PUBLISH
X-WR-CALNAME:92.5 the River
X-ORIGINAL-URL:https://theriverboston.com
X-WR-CALDESC:Events for 92.5 the River
BEGIN:VTIMEZONE
TZID:America/New_York
BEGIN:DAYLIGHT
TZOFFSETFROM:-0500
TZOFFSETTO:-0400
TZNAME:EDT
DTSTART:20210314T070000
END:DAYLIGHT
BEGIN:STANDARD
TZOFFSETFROM:-0400
TZOFFSETTO:-0500
TZNAME:EST
DTSTART:20211107T060000
END:STANDARD
END:VTIMEZONE
BEGIN:VEVENT
DTSTART;TZID=America/New_York:20211002T180000
DTEND;TZID=America/New_York:20211002T180000
DTSTAMP:20260422T221148
CREATED:20210923T174448Z
LAST-MODIFIED:20210923T174448Z
UID:214752-1633197600-1633197600@theriverboston.com
SUMMARY:Live music: Todd Rundgren
DESCRIPTION:Todd Rundgren\nBUY TICKETS NOW \nA show so good you get two chances to see it! Todd Rundgren is playing two nights at Big Night Live! Tickets available for both nights now. You won’t want to miss a night of  Rundgren’s career hits as he performs  A Wizard. A True Star. Side 1 will be on Friday with Side 2 on Saturday! MORE INFO
URL:https://theriverboston.com/events/live-music-todd-rundgren-2/
LOCATION:Big Night Live\, 110 Causeway St\, Boston\, MA\, 02114\, United States
END:VEVENT
BEGIN:VEVENT
DTSTART;TZID=America/New_York:20211002T190000
DTEND;TZID=America/New_York:20211002T230000
DTSTAMP:20260422T221148
CREATED:20200204T180603Z
LAST-MODIFIED:20200804T140026Z
UID:211711-1633201200-1633215600@theriverboston.com
SUMMARY:Chris Stapleton at Xfinity Center!
DESCRIPTION:Award-winning country star Chris Stapleton is to Xfinity Center! This is rescheduled from the original 8/1/20 date. The Kentucky native will be performing with Elle King and Kendell Marvel! \nTickets are on sale now! \nIt’s all brought to you by:
URL:https://theriverboston.com/events/chris-stapleton-is-coming-to-xfinity-center-in-august/
LOCATION:Xfinity Center\, 885 S Main St\, Mansfield \, MA\, 02048\, United States
END:VEVENT
END:VCALENDAR