BEGIN:VCALENDAR
VERSION:2.0
PRODID:-//92.5 the River - ECPv5.16.3.1//NONSGML v1.0//EN
CALSCALE:GREGORIAN
METHOD:PUBLISH
X-WR-CALNAME:92.5 the River
X-ORIGINAL-URL:https://theriverboston.com
X-WR-CALDESC:Events for 92.5 the River
BEGIN:VTIMEZONE
TZID:America/New_York
BEGIN:DAYLIGHT
TZOFFSETFROM:-0500
TZOFFSETTO:-0400
TZNAME:EDT
DTSTART:20210314T070000
END:DAYLIGHT
BEGIN:STANDARD
TZOFFSETFROM:-0400
TZOFFSETTO:-0500
TZNAME:EST
DTSTART:20211107T060000
END:STANDARD
END:VTIMEZONE
BEGIN:VEVENT
DTSTART;TZID=America/New_York:20211010T080000
DTEND;TZID=America/New_York:20211010T120000
DTSTAMP:20260422T094013
CREATED:20210914T181334Z
LAST-MODIFIED:20210914T181334Z
UID:214657-1633852800-1633867200@theriverboston.com
SUMMARY:River Roadies @ Jaguar Land Rover Bedford's Cars & Coffee
DESCRIPTION:Come to JLR Bedford’s final Cars and Coffee of the season!\nAll makes and models are welcomed. The River Roadies will be there playing music and games\, raffling off concert tickets\, river merch\, and other prizes. Coffee will be provided by New Hampshire Coffee Roaster and donuts are from Klemm’s Bakery. Bring your ride\, bring your friends and let’s have some fun! \nFIND MORE INFORMATION HERE
URL:https://theriverboston.com/events/river-roadies-jaguar-land-rover-bedfords-cars-coffee/
LOCATION:Jaguar Land Rover Bedford\, 404 South River Road\, Bedford\, NH\, 03110\, United States
END:VEVENT
BEGIN:VEVENT
DTSTART;TZID=America/New_York:20211010T140000
DTEND;TZID=America/New_York:20211010T140000
DTSTAMP:20260422T094013
CREATED:20210909T143201Z
LAST-MODIFIED:20210914T182819Z
UID:214564-1633874400-1633874400@theriverboston.com
SUMMARY:Closing night: The 39 Steps
DESCRIPTION:The 39 Steps\nBUY TICKETS \nLast chance to see Alfred Hitchcock’s masterpiece The 39 Steps come to life at the Greater Boston Stage Company! Closing night is October 10th and you don’t want to miss out on this fast-paced whodunit packed with laughs\, a slew of characters\, a plane crash\, handcuffs\, missing fingers\, and some good old-fashioned romance. READ MORE
URL:https://theriverboston.com/events/closing-night-the-39-steps/
LOCATION:Greater Boston Stage Company\, 395 Main Street\, Stoneham\, MA\, 02180\, United States
ORGANIZER;CN="Greater%20Boston%20Stage%20Company":MAILTO:bryan@greaterbostonstage.org
END:VEVENT
BEGIN:VEVENT
DTSTART;TZID=America/New_York:20211010T190000
DTEND;TZID=America/New_York:20211010T190000
DTSTAMP:20260422T094013
CREATED:20210722T142018Z
LAST-MODIFIED:20210722T142018Z
UID:214185-1633892400-1633892400@theriverboston.com
SUMMARY:Scott Bradlee’s Postmodern Jukebox at The Music Hall
DESCRIPTION:Don’t miss Scott Bradlee’s Postmodern Jukebox at The Music Hall!\nConcert starts at 7:00 PM. \nScott Bradlee’s Postmodern Jukebox is heading back to North America for their Welcome to the Twenties 2.0 Tour\, bringing the Roaring ‘20s to the 2020s. This unique musical experience will have an ever-evolving\, revolving collective of performers playing popular music in period styles.  READ MORE. \nPURCHASE TICKETS HERE! \nStay up to date with Scott Bradlee’s Postmodern Jukebox\nFacebook | Instagram | Twitter
URL:https://theriverboston.com/events/scott-bradlees-postmodern-jukebox-at-the-music-hall/
LOCATION:The Music Hall\, 28 Chestnut Street\, Portsmouth\, NH\, 03801\, United States
END:VEVENT
BEGIN:VEVENT
DTSTART;TZID=America/New_York:20211010T200000
DTEND;TZID=America/New_York:20211010T200000
DTSTAMP:20260422T094013
CREATED:20210927T174339Z
LAST-MODIFIED:20210927T174339Z
UID:214758-1633896000-1633896000@theriverboston.com
SUMMARY:Live Music: Frank Turner @ Casino Ballroom
DESCRIPTION:Hear Ye: Don’t Miss Frank Turner Live at The Casino Ballroom at Hampton Beach!\nBUY TICKETS\nFrank Turner‘s new single “The Gathering\,” is an upbeat\, positive spin on things\, anticipating a return to normality. The new track follows a number of huge life changes for the star. “The biggest thing for me about the lockdown experience was about identity\,” Turner says. “I am the guy who tours\, this is who I’ve been since I was sixteen. This is the longest period of time I’ve slept in the same bed continuously since I was seven.” \n*Covid Protocol: At the artist’s request all attendees must provide proof of Covid-19 immunization (vaccinated at least two weeks after final dose) OR proof of a negative Covid-19 test taken within 72 hours prior to event for entry.\n 
URL:https://theriverboston.com/events/live-music-frank-turner-casino-ballroom/
LOCATION:Casino Ballroom\, 169 Ocean Boulevard\, Hampton\, NH\, 03842\, United States
END:VEVENT
END:VCALENDAR