BEGIN:VCALENDAR
VERSION:2.0
PRODID:-//92.5 the River - ECPv5.16.3.1//NONSGML v1.0//EN
CALSCALE:GREGORIAN
METHOD:PUBLISH
X-WR-CALNAME:92.5 the River
X-ORIGINAL-URL:https://theriverboston.com
X-WR-CALDESC:Events for 92.5 the River
BEGIN:VTIMEZONE
TZID:America/New_York
BEGIN:DAYLIGHT
TZOFFSETFROM:-0500
TZOFFSETTO:-0400
TZNAME:EDT
DTSTART:20210314T070000
END:DAYLIGHT
BEGIN:STANDARD
TZOFFSETFROM:-0400
TZOFFSETTO:-0500
TZNAME:EST
DTSTART:20211107T060000
END:STANDARD
END:VTIMEZONE
BEGIN:VEVENT
DTSTART;TZID=America/New_York:20211014T200000
DTEND;TZID=America/New_York:20211014T200000
DTSTAMP:20260422T154529
CREATED:20210609T134522Z
LAST-MODIFIED:20210609T134522Z
UID:213740-1634241600-1634241600@theriverboston.com
SUMMARY:St. Vincent @ Boch Center Wang Theatre!
DESCRIPTION:St. Vincent Comes to the Boch Centre Wang Theatre!\nThe hottest album of 2021 will be brought to life this fall as St. Vincent takes Daddy’s Home to the Boch Center’s Wang Theatre on Thursday\, October 14. Daddy’s Home is the sixth album to join St. Vincent’s ever growing collection of retro pop. This upcoming tour will be her first outing with the Down and Out Downtown Band. This is a concert you won’t want to miss.\n\n\nTickets on sale now!
URL:https://theriverboston.com/events/st-vincent-boch-center-wang-theatre/
LOCATION:Boch Center Wang Theatre\, 270 Tremont St\, Boston\, MA\, 02116\, United States
END:VEVENT
END:VCALENDAR