BEGIN:VCALENDAR
VERSION:2.0
PRODID:-//92.5 the River - ECPv5.16.3.1//NONSGML v1.0//EN
CALSCALE:GREGORIAN
METHOD:PUBLISH
X-WR-CALNAME:92.5 the River
X-ORIGINAL-URL:https://theriverboston.com
X-WR-CALDESC:Events for 92.5 the River
BEGIN:VTIMEZONE
TZID:America/New_York
BEGIN:DAYLIGHT
TZOFFSETFROM:-0500
TZOFFSETTO:-0400
TZNAME:EDT
DTSTART:20210314T070000
END:DAYLIGHT
BEGIN:STANDARD
TZOFFSETFROM:-0400
TZOFFSETTO:-0500
TZNAME:EST
DTSTART:20211107T060000
END:STANDARD
END:VTIMEZONE
BEGIN:VEVENT
DTSTART;TZID=America/New_York:20211017T140000
DTEND;TZID=America/New_York:20211017T140000
DTSTAMP:20260422T200045
CREATED:20210916T173305Z
LAST-MODIFIED:20210916T174111Z
UID:214711-1634479200-1634479200@theriverboston.com
SUMMARY:Closing Night: Mamma Mia!
DESCRIPTION:BUY TICKETS  \nClosing night of Mamma Mia is one you don’t want to miss! Don’t let the opportunity to sing and dance along with the incredible cast of Mamma Mia at the North Shore Music Theatre! Mamma Mia is packed with 22 ABBA hits\, including “Dancing Queen\,” “Super Trouper\,” “Take A Chance on Me\,” and “The Winner Takes It All.” READ MORE
URL:https://theriverboston.com/events/closing-night-mamma-mia/
LOCATION:North Shore Music Theatre\, 62 Dunham Road\, Beverly\, MA\, 01915\, United States
ORGANIZER;CN="north%20shore%20music%20theatre":MAILTO:northshoremusictheatre@nsmt.org
END:VEVENT
BEGIN:VEVENT
DTSTART;TZID=America/New_York:20211017T190000
DTEND;TZID=America/New_York:20211017T190000
DTSTAMP:20260422T200045
CREATED:20210713T145324Z
LAST-MODIFIED:20210713T145324Z
UID:214082-1634497200-1634497200@theriverboston.com
SUMMARY:Jade Bird @ Brighton Music Hall
DESCRIPTION:Don’t miss Jade Bird at Brighton Music Hall\nDoors open at 7 PM. \nJade bird returns to the United States on her\, Now’s the Time America Tour\, and will be making a stop at Brighton Music Hall in Boston on Sunday\, October 17\, 2021. Bird will be performing songs from her upcoming sophomore album\, Different Kinds of Light.Tickets are on sale now\, but you can enter to win tickets now! \nCLICK HERE to enter to win tickets! \nCLICK HERE to purchase tickets! \nClick For All Things Jade Bird | Facebook | Twitter | Instagram
URL:https://theriverboston.com/events/jade-bird-brighton-music-hall/
LOCATION:Brighton Music Hall\, 158 Brighton Ave\, Allston\, MA\, 02134\, United States
END:VEVENT
END:VCALENDAR