BEGIN:VCALENDAR
VERSION:2.0
PRODID:-//92.5 the River - ECPv5.16.3.1//NONSGML v1.0//EN
CALSCALE:GREGORIAN
METHOD:PUBLISH
X-WR-CALNAME:92.5 the River
X-ORIGINAL-URL:https://theriverboston.com
X-WR-CALDESC:Events for 92.5 the River
BEGIN:VTIMEZONE
TZID:America/New_York
BEGIN:DAYLIGHT
TZOFFSETFROM:-0500
TZOFFSETTO:-0400
TZNAME:EDT
DTSTART:20210314T070000
END:DAYLIGHT
BEGIN:STANDARD
TZOFFSETFROM:-0400
TZOFFSETTO:-0500
TZNAME:EST
DTSTART:20211107T060000
END:STANDARD
END:VTIMEZONE
BEGIN:VEVENT
DTSTART;TZID=America/New_York:20211021T000000
DTEND;TZID=America/New_York:20211021T000000
DTSTAMP:20260423T013703
CREATED:20210630T161458Z
LAST-MODIFIED:20210630T161458Z
UID:213939-1634774400-1634774400@theriverboston.com
SUMMARY:Patty Griffin & Gregory Alan Isakov @ Capitol Centre for the Arts!
DESCRIPTION:Don’t miss Patty Griffin & Gregory Alan Isakov at Capitol Centre for the Arts!\nDoors open at 7:30 PM. \nCo-headlining their tour\, Patty Griffin & Gregory Alan Isakov hit the road once again! Both Grammy winning artists will be traveling across the eastern part of the United States starting down in Tennessee and ending the tour all the way in Portland\, Maine! This tour will mark their first live performances since early 2020. \nCLICK HERE to purchase tickets! \nClick Here For All Things Patty Griffin | Click Here for All Things Gregory Alan Isakov \n 
URL:https://theriverboston.com/events/patty-griffin-gregory-alan-isakov-capitol-centre-for-the-arts/
LOCATION:Capitol Center for the Arts\, 44 South Main Street\, Concord\, NH\, 03301\, United States
END:VEVENT
END:VCALENDAR