BEGIN:VCALENDAR
VERSION:2.0
PRODID:-//92.5 the River - ECPv5.16.3.1//NONSGML v1.0//EN
CALSCALE:GREGORIAN
METHOD:PUBLISH
X-WR-CALNAME:92.5 the River
X-ORIGINAL-URL:https://theriverboston.com
X-WR-CALDESC:Events for 92.5 the River
BEGIN:VTIMEZONE
TZID:America/New_York
BEGIN:DAYLIGHT
TZOFFSETFROM:-0500
TZOFFSETTO:-0400
TZNAME:EDT
DTSTART:20220313T070000
END:DAYLIGHT
BEGIN:STANDARD
TZOFFSETFROM:-0400
TZOFFSETTO:-0500
TZNAME:EST
DTSTART:20221106T060000
END:STANDARD
END:VTIMEZONE
BEGIN:VEVENT
DTSTART;TZID=America/New_York:20220603T193000
DTEND;TZID=America/New_York:20220603T193000
DTSTAMP:20260421T230333
CREATED:20220208T191144Z
LAST-MODIFIED:20220208T191144Z
UID:215676-1654284600-1654284600@theriverboston.com
SUMMARY:The Lumineers w Caamp @Xfinity Center\, Mansfield MA!
DESCRIPTION:  \n\nThe Lumineers with Caamp  are coming to the Xfinity Center on Friday\,  June 3rd! The show starts at 7:30 pm. \nDon’t miss this event!
URL:https://theriverboston.com/events/the-lumineers-w-caamp-xfinity-center-mansfield-ma/
LOCATION:Xfinity Center\, 885 S Main St\, Mansfield \, MA\, 02048\, United States
END:VEVENT
BEGIN:VEVENT
DTSTART;TZID=America/New_York:20220603T200000
DTEND;TZID=America/New_York:20220603T220000
DTSTAMP:20260421T230333
CREATED:20220524T144912Z
LAST-MODIFIED:20220524T144912Z
UID:216371-1654286400-1654293600@theriverboston.com
SUMMARY:James Montgomery Blues Band @ Jonathan's Ogunquit
DESCRIPTION:James Montgomery Blues Band\nJohnathan’s Ogunquit\nFriday\, June 3rd 2020 at 8:00 PM\nWhen blues legend James Montgomery plays the harmonica\, he “brings it on home”. Whether it’s recording with Kid Rock\, sitting in with Gregg Allman\, or fronting his hot band of thirty years\, Montgomery plays with authority. You won’t want to miss this great show!
URL:https://theriverboston.com/events/james-montgomery-blues-band-jonathans-ogunquit/
LOCATION:Jonathan’s Ogunquit\, 92 Bourne Ln\, Ogunquit\, ME\, 03907
END:VEVENT
END:VCALENDAR