BEGIN:VCALENDAR
VERSION:2.0
PRODID:-//92.5 the River - ECPv5.16.3.1//NONSGML v1.0//EN
CALSCALE:GREGORIAN
METHOD:PUBLISH
X-WR-CALNAME:92.5 the River
X-ORIGINAL-URL:https://theriverboston.com
X-WR-CALDESC:Events for 92.5 the River
BEGIN:VTIMEZONE
TZID:America/New_York
BEGIN:DAYLIGHT
TZOFFSETFROM:-0500
TZOFFSETTO:-0400
TZNAME:EDT
DTSTART:20220313T070000
END:DAYLIGHT
BEGIN:STANDARD
TZOFFSETFROM:-0400
TZOFFSETTO:-0500
TZNAME:EST
DTSTART:20221106T060000
END:STANDARD
END:VTIMEZONE
BEGIN:VEVENT
DTSTART;TZID=America/New_York:20220604T133000
DTEND;TZID=America/New_York:20220604T163000
DTSTAMP:20260421T213016
CREATED:20220512T151448Z
LAST-MODIFIED:20220512T151448Z
UID:216180-1654349400-1654360200@theriverboston.com
SUMMARY:NH Bacon & Beer Festival
DESCRIPTION:High Hopes Foundation is excited to announce that the 6th Annual NH Bacon & Beer Festival will return to the Anheuser Busch Brewery fields in Merrimack NH on Sat.\, June 4\, 2022! For more than 35 years\, the High Hopes Foundation has provided life-enhancing experiences to New Hampshire’s terminally and chronically ill children. Bacon & Beer is our primary fundraiser\, celebrating greasy\, fatty\, savory bacon alongside the endless possibilities of well-crafted brews. \n50 craft brewers\,  bacon samples\, and the NEW Pulled Pork People’s Choice Contest with 25+ pulled pork samplers.  \nGreat brews\, awesome bacon dishes and live music!  Thank you for your support of High Hopes Foundation  \nSponsored in part by North Country Smokehouse\, and presented in association with Great American Events \n \n \n \n .
URL:https://theriverboston.com/events/nh-bacon-beer-festival/
LOCATION:Anheuser-Busch Brewery\, 221 Daniel Webster Highway\, Merrimack\, NH\, 03054\, United States
END:VEVENT
BEGIN:VEVENT
DTSTART;TZID=America/New_York:20220604T183000
DTEND;TZID=America/New_York:20220604T183000
DTSTAMP:20260421T213016
CREATED:20220415T174826Z
LAST-MODIFIED:20220415T174902Z
UID:215985-1654367400-1654367400@theriverboston.com
SUMMARY:The Head and the Heart @ Thompson's Point\, State Theatre Portland Maine
DESCRIPTION:The Head and the Heart are back on tour in support of their new album “Every Shade of Blue”. They will be playing at the State Theatre in Portland Maine on June 4th. The show starts at 6:30!
URL:https://theriverboston.com/events/the-head-and-the-heart-thompsons-point-state-theatre-portland-maine/
LOCATION:Thompson’s Point\, State Theatre Portland Maine\, 609 Congress St\, Portland\, ME\, 04101\, United States
END:VEVENT
BEGIN:VEVENT
DTSTART;TZID=America/New_York:20220604T193000
DTEND;TZID=America/New_York:20220604T193000
DTSTAMP:20260421T213016
CREATED:20220526T131331Z
LAST-MODIFIED:20220526T131331Z
UID:216402-1654371000-1654371000@theriverboston.com
SUMMARY:Ringo Starr & The Avett Brothers @ Bank of NH Pavilion
DESCRIPTION:RINGO STARR & AVETT BROTHERS\nRINGO STARR & HIS ALL STARR BAND AND THE AVETT BROTHERS\nTWO FULL SETS OF MUSIC \nSaturday\, June 4th\, 2022 7:30 PM \nParking Opens: 4:30PM\nDoors Open: 5:30PM
URL:https://theriverboston.com/events/ringo-starr-the-avett-brothers-bank-of-nh-pavilion/
LOCATION:Bank Of New Hampshire Pavilion\, 72 Meadowbrook Ln\, Gilford\, NH\, 03249\, United States
END:VEVENT
BEGIN:VEVENT
DTSTART;TZID=America/New_York:20220604T200000
DTEND;TZID=America/New_York:20220604T220000
DTSTAMP:20260421T213016
CREATED:20220524T152618Z
LAST-MODIFIED:20220524T152704Z
UID:216376-1654372800-1654380000@theriverboston.com
SUMMARY:Sara Kays @ Sinclair
DESCRIPTION:Sara Kays\nSinclair\nSaturday\, June 3rd 2022\nNeed something for your Saturday night? Here is a fantastic show that you will not want to miss. Sara Kays is back on tour in support of her new song\, “when you look at me” and new album\, “Math”.
URL:https://theriverboston.com/events/sara-kays-sinclair/
LOCATION:Sinclair\, 52 Church Street\, Cambridge\, 02138 \, United States
END:VEVENT
END:VCALENDAR