BEGIN:VCALENDAR
VERSION:2.0
PRODID:-//92.5 the River - ECPv5.16.3.1//NONSGML v1.0//EN
CALSCALE:GREGORIAN
METHOD:PUBLISH
X-WR-CALNAME:92.5 the River
X-ORIGINAL-URL:https://theriverboston.com
X-WR-CALDESC:Events for 92.5 the River
BEGIN:VTIMEZONE
TZID:America/New_York
BEGIN:DAYLIGHT
TZOFFSETFROM:-0500
TZOFFSETTO:-0400
TZNAME:EDT
DTSTART:20220313T070000
END:DAYLIGHT
BEGIN:STANDARD
TZOFFSETFROM:-0400
TZOFFSETTO:-0500
TZNAME:EST
DTSTART:20221106T060000
END:STANDARD
END:VTIMEZONE
BEGIN:VEVENT
DTSTART;TZID=America/New_York:20220618T193000
DTEND;TZID=America/New_York:20220618T193000
DTSTAMP:20260422T080626
CREATED:20220621T141246Z
LAST-MODIFIED:20220621T141246Z
UID:216584-1655580600-1655580600@theriverboston.com
SUMMARY:The Mavericks @ Lowell Summer Music Series
DESCRIPTION:BUY TICKETS\nAUL MALO: VOCALS\, GUITAR\nPAUL DEAKIN: DRUMS\nJERRY DALE MCFADDEN: KEYBOARDS\, VOCALS\nEDDIE PEREZ: LEAD GUITAR\, VOCALS \nThe Mavericks\, the eclectic rock and country group known for crisscrossing musical boundaries with abandon\, has gone through three distinct phases since it was founded in Miami in 1989. An initial period of heady success marked by big hits and critical acclaim in the ‘90s. A long hiatus starting 2003 when the musicians each went their own way. And finally\, a triumphant reunion in 2012 which held long enough for them to recently celebrate the band’s 30th anniversary. READ MORE \nMore about the 2022 Lowell Summer Music Series \n  \n\n​
URL:https://theriverboston.com/events/the-mavericks-lowell-summer-music-series/
LOCATION:Boarding House Park\, 40 French Street\, Lowell\, MA\, 01852\, United States
END:VEVENT
END:VCALENDAR