BEGIN:VCALENDAR
VERSION:2.0
PRODID:-//92.5 the River - ECPv5.16.3.1//NONSGML v1.0//EN
CALSCALE:GREGORIAN
METHOD:PUBLISH
X-WR-CALNAME:92.5 the River
X-ORIGINAL-URL:https://theriverboston.com
X-WR-CALDESC:Events for 92.5 the River
BEGIN:VTIMEZONE
TZID:America/New_York
BEGIN:DAYLIGHT
TZOFFSETFROM:-0500
TZOFFSETTO:-0400
TZNAME:EDT
DTSTART:20220313T070000
END:DAYLIGHT
BEGIN:STANDARD
TZOFFSETFROM:-0400
TZOFFSETTO:-0500
TZNAME:EST
DTSTART:20221106T060000
END:STANDARD
END:VTIMEZONE
BEGIN:VEVENT
DTSTART;TZID=America/New_York:20220621T180000
DTEND;TZID=America/New_York:20220621T180000
DTSTAMP:20260422T034019
CREATED:20220113T161223Z
LAST-MODIFIED:20220113T161223Z
UID:215529-1655834400-1655834400@theriverboston.com
SUMMARY:Jack Johnson @ Bank of NH Pavilion!
DESCRIPTION:Come see Jack Johnson live in Gilford\, NH!\n\nJack Johnson’s 2022 Summer tour is making a stop in New Hampshire June 21st!\nJack and the band will be hitting the road for a 30 date Summer 2022 Tour throughout North America and will be joined by musical guests Ben Harper & the Innocent Criminals\, Ziggy Marley\, Lake Street Dive\, Durand Jones & the Indications\, and Ron Artis II & Thunderstorm. His first stop is at the Bank of NH Pavilion in Gilford\, NH\, come check it out! \nFor more information on the show\, click here.  \n 
URL:https://theriverboston.com/events/jack-johnson-bank-of-nh-pavilion/
LOCATION:Bank of New Hampshire Pavilion at Meadowbrook\, 72 Production Pl.\, Gilford\, NH\, 03249\, United States
END:VEVENT
END:VCALENDAR