BEGIN:VCALENDAR
VERSION:2.0
PRODID:-//92.5 the River - ECPv5.16.3.1//NONSGML v1.0//EN
CALSCALE:GREGORIAN
METHOD:PUBLISH
X-WR-CALNAME:92.5 the River
X-ORIGINAL-URL:https://theriverboston.com
X-WR-CALDESC:Events for 92.5 the River
BEGIN:VTIMEZONE
TZID:America/New_York
BEGIN:DAYLIGHT
TZOFFSETFROM:-0500
TZOFFSETTO:-0400
TZNAME:EDT
DTSTART:20220313T070000
END:DAYLIGHT
BEGIN:STANDARD
TZOFFSETFROM:-0400
TZOFFSETTO:-0500
TZNAME:EST
DTSTART:20221106T060000
END:STANDARD
END:VTIMEZONE
BEGIN:VEVENT
DTSTART;TZID=America/New_York:20220622T193000
DTEND;TZID=America/New_York:20220622T193000
DTSTAMP:20260422T033424
CREATED:20211117T145939Z
LAST-MODIFIED:20211117T145939Z
UID:215161-1655926200-1655926200@theriverboston.com
SUMMARY:Tears For Fears w/Garbage @ Leader Bank Pavilion
DESCRIPTION:Tears For Fears\nW/ Garbage\nWednesday\, June 22 2022\nLeader Bank Pavilion\nBuy tickets | On sale Friday\, Nov. 19th at 10 am \nTears for Fears are coming to the Leader Bank Pavilion with Garbage this coming June! These two legendary bands will be putting on an incredible night of music. Tickets go on sale this Friday at 10 am but The River is giving you the chance to win before you buy! Win Tears For Fears @ Leader Bank Pavilion tickets!
URL:https://theriverboston.com/events/tears-for-fears-w-garbage-leader-bank-pavilion/
LOCATION:Leader Bank Pavilion\, 290 Northern Ave\, Boston\, MA\, 02210\, United States
END:VEVENT
END:VCALENDAR