BEGIN:VCALENDAR
VERSION:2.0
PRODID:-//92.5 the River - ECPv5.16.3.1//NONSGML v1.0//EN
CALSCALE:GREGORIAN
METHOD:PUBLISH
X-WR-CALNAME:92.5 the River
X-ORIGINAL-URL:https://theriverboston.com
X-WR-CALDESC:Events for 92.5 the River
BEGIN:VTIMEZONE
TZID:America/New_York
BEGIN:DAYLIGHT
TZOFFSETFROM:-0500
TZOFFSETTO:-0400
TZNAME:EDT
DTSTART:20220313T070000
END:DAYLIGHT
BEGIN:STANDARD
TZOFFSETFROM:-0400
TZOFFSETTO:-0500
TZNAME:EST
DTSTART:20221106T060000
END:STANDARD
END:VTIMEZONE
BEGIN:VEVENT
DTSTART;TZID=America/New_York:20220623T100000
DTEND;TZID=America/New_York:20220625T220000
DTSTAMP:20260421T230335
CREATED:20220520T174221Z
LAST-MODIFIED:20220520T174221Z
UID:216287-1655978400-1656194400@theriverboston.com
SUMMARY:
DESCRIPTION:Intown Concord’s Ultimate 3-Day Summer Festival is Back! The 48th Annual Market Days Festival is returning to downtown Concord\, NH on June 23-25\, 2022. This FREE\, 3-day street festival will be held right on Main Street and feature shopping\, food trucks\, family-friendly activities\, local artisans\, and live entertainment each day from 10 am – 10pm\, highlighted by a huge free outdoor concert Saturday\, June 25th featuring Vertical Horizon.
URL:https://theriverboston.com/events/216287/
LOCATION:Main Street\, Down Town Concord\, Main Street\, Concord\, NH\, 01742\, United States
END:VEVENT
BEGIN:VEVENT
DTSTART;TZID=America/New_York:20220623T100000
DTEND;TZID=America/New_York:20220625T220000
DTSTAMP:20260421T230335
CREATED:20220527T172328Z
LAST-MODIFIED:20220527T172328Z
UID:216413-1655978400-1656194400@theriverboston.com
SUMMARY:Intown Concord Market Days Festival
DESCRIPTION:Intown Concord’s Ultimate 3-Day Summer Festival is Back! The 48th Annual Market Days Festival is returning to downtown Concord\, NH on June 23-25\, 2022. This FREE\, 3-day street festival will be held right on Main Street and feature shopping\, food trucks\, family-friendly activities\, local artisans\, and live entertainment each day from 10 am – 10pm\, highlighted by a huge free outdoor concert Saturday\, June 25th featuring Vertical Horizon.
URL:https://theriverboston.com/events/intown-concord-market-days-festival/
LOCATION:Main Street\, Down Town Concord\, Main Street\, Concord\, NH\, 01742\, United States
END:VEVENT
BEGIN:VEVENT
DTSTART;TZID=America/New_York:20220624T193000
DTEND;TZID=America/New_York:20220624T193000
DTSTAMP:20260421T230335
CREATED:20220621T140601Z
LAST-MODIFIED:20220621T140601Z
UID:216620-1656099000-1656099000@theriverboston.com
SUMMARY:Gaelic Storm @ Lowell Summer Music Series
DESCRIPTION:BUY TICKETS\nGaelic Storm is a one of a kind phenomenon in the Irish music world\, a blue-collar working band that cuts a trail of blazing live performances all across the globe. Mixing country\, bluegrass\, and rock sensibilities with Celtic tradition\, Gaelic Storm’s legendary live shows offer something to everyone in the audience\, creating an experience that fully justifies the band’s name. READ MORE \nMore about the artist \nMore about the 2022 Lowell Summer Music Series \n  \n\n 
URL:https://theriverboston.com/events/gaelic-storm-lowell-summer-music-series/
LOCATION:Boarding House Park\, 40 French Street\, Lowell\, MA\, 01852\, United States
END:VEVENT
END:VCALENDAR