BEGIN:VCALENDAR
VERSION:2.0
PRODID:-//92.5 the River - ECPv5.16.3.1//NONSGML v1.0//EN
CALSCALE:GREGORIAN
METHOD:PUBLISH
X-WR-CALNAME:92.5 the River
X-ORIGINAL-URL:https://theriverboston.com
X-WR-CALDESC:Events for 92.5 the River
BEGIN:VTIMEZONE
TZID:America/New_York
BEGIN:DAYLIGHT
TZOFFSETFROM:-0500
TZOFFSETTO:-0400
TZNAME:EDT
DTSTART:20220313T070000
END:DAYLIGHT
BEGIN:STANDARD
TZOFFSETFROM:-0400
TZOFFSETTO:-0500
TZNAME:EST
DTSTART:20221106T060000
END:STANDARD
END:VTIMEZONE
BEGIN:VEVENT
DTSTART;TZID=America/New_York:20220626T000000
DTEND;TZID=America/New_York:20220626T000000
DTSTAMP:20260421T230334
CREATED:20220524T173623Z
LAST-MODIFIED:20220524T173623Z
UID:216385-1656201600-1656201600@theriverboston.com
SUMMARY:Nick Lowe and the Mavericks @Tanglewood
DESCRIPTION:Nick Lowe and the Mavericks are back on tour- and will be visiting the Tanglewood in Lenox\, Massachusetts! Do not miss your chance to see this amazing show!
URL:https://theriverboston.com/events/nick-lowe-and-the-mavericks-tanglewood/
LOCATION:Tanglewood\, 297 West St\, Lenox\, Lenox\, MA\, 01240\, United States
END:VEVENT
END:VCALENDAR