BEGIN:VCALENDAR
VERSION:2.0
PRODID:-//92.5 the River - ECPv5.16.3.1//NONSGML v1.0//EN
CALSCALE:GREGORIAN
METHOD:PUBLISH
X-WR-CALNAME:92.5 the River
X-ORIGINAL-URL:https://theriverboston.com
X-WR-CALDESC:Events for 92.5 the River
BEGIN:VTIMEZONE
TZID:America/New_York
BEGIN:DAYLIGHT
TZOFFSETFROM:-0500
TZOFFSETTO:-0400
TZNAME:EDT
DTSTART:20220313T070000
END:DAYLIGHT
BEGIN:STANDARD
TZOFFSETFROM:-0400
TZOFFSETTO:-0500
TZNAME:EST
DTSTART:20221106T060000
END:STANDARD
END:VTIMEZONE
BEGIN:VEVENT
DTSTART;TZID=America/New_York:20220629T000000
DTEND;TZID=America/New_York:20220629T000000
DTSTAMP:20260422T033425
CREATED:20220524T174852Z
LAST-MODIFIED:20220524T174852Z
UID:216389-1656460800-1656460800@theriverboston.com
SUMMARY:Black Crowes @Tanglewood
DESCRIPTION:The Black Crowes are back! They are on their “Shake Your Money Maker” Tour\, and will be stopping by the Tanglewood in Lenox MA! Don’t miss this show!
URL:https://theriverboston.com/events/black-crowes-tanglewood/
LOCATION:Tanglewood\, 297 West St\, Lenox\, Lenox\, MA\, 01240\, United States
END:VEVENT
END:VCALENDAR