BEGIN:VCALENDAR
VERSION:2.0
PRODID:-//92.5 the River - ECPv5.16.3.1//NONSGML v1.0//EN
CALSCALE:GREGORIAN
METHOD:PUBLISH
X-WR-CALNAME:92.5 the River
X-ORIGINAL-URL:https://theriverboston.com
X-WR-CALDESC:Events for 92.5 the River
BEGIN:VTIMEZONE
TZID:America/New_York
BEGIN:DAYLIGHT
TZOFFSETFROM:-0500
TZOFFSETTO:-0400
TZNAME:EDT
DTSTART:20220313T070000
END:DAYLIGHT
BEGIN:STANDARD
TZOFFSETFROM:-0400
TZOFFSETTO:-0500
TZNAME:EST
DTSTART:20221106T060000
END:STANDARD
END:VTIMEZONE
BEGIN:VEVENT
DTSTART;TZID=America/New_York:20220729T190000
DTEND;TZID=America/New_York:20220729T190000
DTSTAMP:20260422T050929
CREATED:20220609T160802Z
LAST-MODIFIED:20220609T160802Z
UID:216494-1659121200-1659121200@theriverboston.com
SUMMARY:The Black Keys with Special Guest Band of Horses @ Xfinity Center - The Dropout Boogie Tour
DESCRIPTION:The Black Keys return to Xfinity Center on their Dropout Boogie Tour 2022 on July 29th
URL:https://theriverboston.com/events/the-black-keys-with-special-guest-band-of-horses-xfinity-center-the-dropout-boogie-tour/
LOCATION:Xfinity Center\, 885 S Main St\, Mansfield \, MA\, 02048\, United States
END:VEVENT
BEGIN:VEVENT
DTSTART;TZID=America/New_York:20220729T193000
DTEND;TZID=America/New_York:20220731T193000
DTSTAMP:20260422T050929
CREATED:20220714T144058Z
LAST-MODIFIED:20220714T144058Z
UID:216792-1659123000-1659295800@theriverboston.com
SUMMARY:Lowell Folk Festival @ Lowell Summer Music Series
DESCRIPTION:The Lowell Folk Festival is back and better than ever for the 35th year in a row! With over 20 acts\, food\, crafts\, and more\, there’ll something for everyone to enjoy. Some of the acts include: \nCherish The Ladies – Irish\nDale Ann Bradley – Bluegrass\nDiunna Greenleef & Blue Mercy – Blues\nLos Plenaros de la 21 – Bomba & Plena\nNava Persian Trio – Persian Santour\nPedro Giraudo Tango Ensemble – Argentine Tango \nAdmission to this event is free all weekend but donations are welcome.
URL:https://theriverboston.com/events/lowell-folk-festival-lowell-summer-music-series/
LOCATION:MA
END:VEVENT
END:VCALENDAR