BEGIN:VCALENDAR
VERSION:2.0
PRODID:-//92.5 the River - ECPv5.16.3.1//NONSGML v1.0//EN
CALSCALE:GREGORIAN
METHOD:PUBLISH
X-WR-CALNAME:92.5 the River
X-ORIGINAL-URL:https://theriverboston.com
X-WR-CALDESC:Events for 92.5 the River
BEGIN:VTIMEZONE
TZID:America/New_York
BEGIN:DAYLIGHT
TZOFFSETFROM:-0500
TZOFFSETTO:-0400
TZNAME:EDT
DTSTART:20220313T070000
END:DAYLIGHT
BEGIN:STANDARD
TZOFFSETFROM:-0400
TZOFFSETTO:-0500
TZNAME:EST
DTSTART:20221106T060000
END:STANDARD
END:VTIMEZONE
BEGIN:VEVENT
DTSTART;TZID=America/New_York:20220804T190000
DTEND;TZID=America/New_York:20220804T190000
DTSTAMP:20260421T195027
CREATED:20220411T174540Z
LAST-MODIFIED:20220411T174626Z
UID:215948-1659639600-1659639600@theriverboston.com
SUMMARY:Chris Stapleton @Bank of NH Pavilion
DESCRIPTION:
URL:https://theriverboston.com/events/chris-stapleton-bank-of-nh-pavilion/
LOCATION:Bank Of New Hampshire Pavilion\, 72 Meadowbrook Ln\, Gilford\, NH\, 03249\, United States
END:VEVENT
BEGIN:VEVENT
DTSTART;TZID=America/New_York:20220804T193000
DTEND;TZID=America/New_York:20220804T193000
DTSTAMP:20260421T195027
CREATED:20220714T154859Z
LAST-MODIFIED:20220714T154859Z
UID:216804-1659641400-1659641400@theriverboston.com
SUMMARY:Graham Nash @ Lowell Summer Music Series
DESCRIPTION:Graham Nash is back on tour and coming to Lowell! Two-time Rock and Roll Hall of Fame inductee will be performing at the Boarding House Park as part of the Lowell Summer Music Series. This tour follows the release of Nash’s new album Songs for Beginners/Wild Tales.
URL:https://theriverboston.com/events/graham-nash-lowell-summer-music-series-2/
LOCATION:Boarding House Park\, 40 French Street\, Lowell\, MA\, 01852\, United States
END:VEVENT
BEGIN:VEVENT
DTSTART;TZID=America/New_York:20220804T200000
DTEND;TZID=America/New_York:20220804T220000
DTSTAMP:20260421T195027
CREATED:20220607T154652Z
LAST-MODIFIED:20220607T154810Z
UID:216461-1659643200-1659650400@theriverboston.com
SUMMARY:Beach Bunny @ House Of Blues *Rescheduled Date*
DESCRIPTION:Beach Bunny\nHouse Of Blues Boston\nThursday\, August 4th 2022\nThe four-piece pop band Beach Bunny is back on tour in support of their new album “Emotional Creature”. They will be preforming August 4th\, 8pm at the House of Blues Boston\, MA. Do not miss your chance to see this amazing show!
URL:https://theriverboston.com/events/beach-bunny-house-of-blues-rescheduled-date/
LOCATION:House of Blues Boston\, 15 Landsdowne Street\, Boston\, MA\, 02215\, United States
END:VEVENT
BEGIN:VEVENT
DTSTART;TZID=America/New_York:20220804T200000
DTEND;TZID=America/New_York:20220804T200000
DTSTAMP:20260421T195027
CREATED:20220719T195810Z
LAST-MODIFIED:20220719T200059Z
UID:216862-1659643200-1659643200@theriverboston.com
SUMMARY:Chris Isaak at the Cabot in Beverly
DESCRIPTION:Chris Isaak – Live at The Cabot in Beverly\nView/Buy Tickets\n  \nOver the course of his three-decade plus career\, Platinum-selling and GRAMMY-nominated singer & actor Chris Isaak has performed to sold-out crowds across the globe with his longtime band Silvertone. His music and film credits include nine critically acclaimed studio albums\, twelve chart-topping singles along with several motion pictures\, such as The Silence of the Lambs and That Thing You Do! His work has also taken him behind the scenes\, creating music for multiple film soundtracks\, including Eyes Wide Shut\, True Romance\, Wild at Heart\, and Blue Velvet. 2019 marked the 30th Anniversary of Isaak’s beloved Heart-Shaped World album\, which includes his breakthrough classic “Wicked Game.” He is currently recording a new studio album in Nashville.​ \nClick to go to Chris Isaak’s website\n 
URL:https://theriverboston.com/events/chris-isaak-at-the-cabot-in-beverly/
LOCATION:THE CABOT\, 286 Cabot Street\, Beverly\, MA\, 01915\, United States
END:VEVENT
END:VCALENDAR