BEGIN:VCALENDAR
VERSION:2.0
PRODID:-//92.5 the River - ECPv5.16.3.1//NONSGML v1.0//EN
CALSCALE:GREGORIAN
METHOD:PUBLISH
X-WR-CALNAME:92.5 the River
X-ORIGINAL-URL:https://theriverboston.com
X-WR-CALDESC:Events for 92.5 the River
BEGIN:VTIMEZONE
TZID:America/New_York
BEGIN:DAYLIGHT
TZOFFSETFROM:-0500
TZOFFSETTO:-0400
TZNAME:EDT
DTSTART:20220313T070000
END:DAYLIGHT
BEGIN:STANDARD
TZOFFSETFROM:-0400
TZOFFSETTO:-0500
TZNAME:EST
DTSTART:20221106T060000
END:STANDARD
END:VTIMEZONE
BEGIN:VEVENT
DTSTART;TZID=America/New_York:20220805T193000
DTEND;TZID=America/New_York:20220805T193000
DTSTAMP:20260421T213016
CREATED:20220715T185807Z
LAST-MODIFIED:20220715T185908Z
UID:216831-1659727800-1659727800@theriverboston.com
SUMMARY:Classic Albums Live: Fleetwood Mac Rumours @ Lowell Summer Music Series
DESCRIPTION:The massive cover band\, out of Toronto\, comes to Boarding House Park\, as part of the Lowell Summer Music Series as they play Fleetwood Mac’s Rumours from front to back!
URL:https://theriverboston.com/events/classic-albums-live-fleetwood-mac-rumours-lowell-summer-music-series/
END:VEVENT
BEGIN:VEVENT
DTSTART;TZID=America/New_York:20220805T200000
DTEND;TZID=America/New_York:20220805T200000
DTSTAMP:20260421T213016
CREATED:20220720T154003Z
LAST-MODIFIED:20220720T154003Z
UID:216876-1659729600-1659729600@theriverboston.com
SUMMARY:JJ Grey & Mofro @ Hampton Beach Casino Ballroom
DESCRIPTION:JJ Grey & Mofro are back on tour and this time\, they’re joined by special guest Adam Ezra Group! Check them out at the Hampton Beach Casino Ballroom on Friday\, August 5\, 2022. The concert is set to start at 8pm with the doors opening at 7pm. Please note that this venue is 18+ unless accompanied by an adult.
URL:https://theriverboston.com/events/jj-grey-mofro-hampton-beach-casino-ballroom/
LOCATION:Hampton Beach Casino Ballroom\, 169 Ocean Blvd\, Hampton\, NH\, United States
END:VEVENT
END:VCALENDAR